Workbook
Name Scenario: Tables!$A$2:$A$9
Name Water: Tables!$A$13:$A$55

Sheet Summary
A2: Scenario | B2: Sensitivity | C2: Scenario/Sensitivty | D2: Retirement Dates | F2: Economic Depletion Range | G2: Notes | H2: 2017 | I2: 2018 | J2: 2019 | K2: 2020 | L2: 2021 | M2: 2022 | N2: 2023 | O2: 2024 | P2: 2025 | Q2: 2026 | R2: 2027 | S2: 2028 | T2: 2029 | U2: 2030 | V2: 2031 | W2: 2032 | X2: 2033 | Y2: 2034 | Z2: 2035 | AA2: 2036 | AB2: 2037 | AC2: 2038 | AD2: 2039 | AE2: 2040 | AF2: 2041 | AG2: 2042 | AH2: 2043 | AI2: 2044 | AJ2: 2045 | AK2: Total
D3: Unit 1 | E3: Unit 2
A4: 1 | B4: =CONCATENATE("Sensitivity ",A4) -> Sensitivity 1 | C4: Status quo (w/o Northern Ag) | D4: 2023 | E4: ='Scenario 1'!J14 -> 2023 | F4: 2022-2024 | H4: =SUBTOTAL(9,H5:H9) -> 50240082 | I4: =SUBTOTAL(9,I5:I9) -> 51609983 | J4: =SUBTOTAL(9,J5:J9) -> 40885198 | K4: =SUBTOTAL(9,K5:K9) -> 47524913 | L4: =SUBTOTAL(9,L5:L9) -> 40978250 | M4: =SUBTOTAL(9,M5:M9) -> 37113734 | N4: =SUBTOTAL(9,N5:N9) -> 35183748 | O4: =SUBTOTAL(9,O5:O9) -> 0 | ... AK4: =SUBTOTAL(9,AK5:AK9) -> 3.0353591e+08
A5: =A4 -> 1 | C5: On-Going CapX (exc water) | H5: =HLOOKUP($A5,'Scenario 1'!$I$42:$N$72,Summary!H$2-2015,FALSE) -> 18803258 | I5: =HLOOKUP($A5,'Scenario 1'!$I$42:$N$72,Summary!I$2-2015,FALSE) -> 15515714 | J5: =HLOOKUP($A5,'Scenario 1'!$I$42:$N$72,Summary!J$2-2015,FALSE) -> 10355907 | K5: =HLOOKUP($A5,'Scenario 1'!$I$42:$N$72,Summary!K$2-2015,FALSE) -> 12100046 | L5: =HLOOKUP($A5,'Scenario 1'!$I$42:$N$72,Summary!L$2-2015,FALSE) -> 7175311.4 | M5: =HLOOKUP($A5,'Scenario 1'!$I$42:$N$72,Summary!M$2-2015,FALSE) -> 2305697.2 | N5: =HLOOKUP($A5,'Scenario 1'!$I$42:$N$72,Summary!N$2-2015,FALSE) -> 689350.13 | O5: =HLOOKUP($A5,'Scenario 1'!$I$42:$N$72,Summary!O$2-2015,FALSE) -> 0 | ... AJ5: =HLOOKUP($A5,'Scenario 1'!$I$42:$N$72,Summary!AJ$2-2015,FALSE) -> 0 | AK5: =SUM(H5:AJ5) -> 66945284
A6: =A5 -> 1 | C6: CapX Water Costs | H6: =HLOOKUP($A6,'Scenario 1'!$I$75:$N$105,Summary!H$2-2015,FALSE) -> 600000 | I6: =HLOOKUP($A6,'Scenario 1'!$I$75:$N$105,Summary!I$2-2015,FALSE) -> 4641000 | J6: =HLOOKUP($A6,'Scenario 1'!$I$75:$N$105,Summary!J$2-2015,FALSE) -> 728000 | K6: =HLOOKUP($A6,'Scenario 1'!$I$75:$N$105,Summary!K$2-2015,FALSE) -> 2015208 | L6: =HLOOKUP($A6,'Scenario 1'!$I$75:$N$105,Summary!L$2-2015,FALSE) -> 648000 | M6: =HLOOKUP($A6,'Scenario 1'!$I$75:$N$105,Summary!M$2-2015,FALSE) -> 990000 | N6: =HLOOKUP($A6,'Scenario 1'!$I$75:$N$105,Summary!N$2-2015,FALSE) -> 0 | O6: =HLOOKUP($A6,'Scenario 1'!$I$75:$N$105,Summary!O$2-2015,FALSE) -> 0 | ... AJ6: =HLOOKUP($A6,'Scenario 1'!$I$75:$N$105,Summary!AJ$2-2015,FALSE) -> 0 | AK6: =SUM(H6:AJ6) -> 9622208
A7: =A6 -> 1 | C7: Fixed O&M Labor | H7: =HLOOKUP($A7,'Scenario 1'!$I$108:$N$138,Summary!H$2-2015,FALSE) -> 18063856 | I7: =HLOOKUP($A7,'Scenario 1'!$I$108:$N$138,Summary!I$2-2015,FALSE) -> 18538570 | J7: =HLOOKUP($A7,'Scenario 1'!$I$108:$N$138,Summary!J$2-2015,FALSE) -> 18854305 | K7: =HLOOKUP($A7,'Scenario 1'!$I$108:$N$138,Summary!K$2-2015,FALSE) -> 19834948 | L7: =HLOOKUP($A7,'Scenario 1'!$I$108:$N$138,Summary!L$2-2015,FALSE) -> 19947342 | M7: =HLOOKUP($A7,'Scenario 1'!$I$108:$N$138,Summary!M$2-2015,FALSE) -> 20346289 | N7: =HLOOKUP($A7,'Scenario 1'!$I$108:$N$138,Summary!N$2-2015,FALSE) -> 20753215 | O7: =HLOOKUP($A7,'Scenario 1'!$I$108:$N$138,Summary!O$2-2015,FALSE) -> 0 | ... AJ7: =HLOOKUP($A7,'Scenario 1'!$I$108:$N$138,Summary!AJ$2-2015,FALSE) -> 0 | AK7: =SUM(H7:AJ7) -> 1.3633853e+08
A8: =A7 -> 1 | C8: Fixed O&M Other | H8: =HLOOKUP($A8,'Scenario 1'!$I$143:$N$173,Summary!H$2-2015,FALSE) -> 10696150 | I8: =HLOOKUP($A8,'Scenario 1'!$I$143:$N$173,Summary!I$2-2015,FALSE) -> 10735594 | J8: =HLOOKUP($A8,'Scenario 1'!$I$143:$N$173,Summary!J$2-2015,FALSE) -> 8134829.1 | K8: =HLOOKUP($A8,'Scenario 1'!$I$143:$N$173,Summary!K$2-2015,FALSE) -> 10672832 | L8: =HLOOKUP($A8,'Scenario 1'!$I$143:$N$173,Summary!L$2-2015,FALSE) -> 10192874 | M8: =HLOOKUP($A8,'Scenario 1'!$I$143:$N$173,Summary!M$2-2015,FALSE) -> 10396731 | N8: =HLOOKUP($A8,'Scenario 1'!$I$143:$N$173,Summary!N$2-2015,FALSE) -> 10604666 | O8: =HLOOKUP($A8,'Scenario 1'!$I$143:$N$173,Summary!O$2-2015,FALSE) -> 0 | ... AJ8: =HLOOKUP($A8,'Scenario 1'!$I$143:$N$173,Summary!AJ$2-2015,FALSE) -> 0 | AK8: =SUM(H8:AJ8) -> 71433677
A9: =A8 -> 1 | C9: Variable O&M | H9: =HLOOKUP($A9,'Scenario 1'!$I$178:$N$208,Summary!H$2-2015,FALSE) -> 2076817 | I9: =HLOOKUP($A9,'Scenario 1'!$I$178:$N$208,Summary!I$2-2015,FALSE) -> 2179106 | J9: =HLOOKUP($A9,'Scenario 1'!$I$178:$N$208,Summary!J$2-2015,FALSE) -> 2812156 | K9: =HLOOKUP($A9,'Scenario 1'!$I$178:$N$208,Summary!K$2-2015,FALSE) -> 2901879 | L9: =HLOOKUP($A9,'Scenario 1'!$I$178:$N$208,Summary!L$2-2015,FALSE) -> 3014722 | M9: =HLOOKUP($A9,'Scenario 1'!$I$178:$N$208,Summary!M$2-2015,FALSE) -> 3075016.4 | N9: =HLOOKUP($A9,'Scenario 1'!$I$178:$N$208,Summary!N$2-2015,FALSE) -> 3136516.8 | O9: =HLOOKUP($A9,'Scenario 1'!$I$178:$N$208,Summary!O$2-2015,FALSE) -> 0 | ... AJ9: =HLOOKUP($A9,'Scenario 1'!$I$178:$N$208,Summary!AJ$2-2015,FALSE) -> 0 | AK9: =SUM(H9:AJ9) -> 19196213
A10: 1A | B10: =CONCATENATE("Sensitivity ",A10) -> Sensitivity 1A | C10: Status quo (incl Northern Ag) | D10: 2024 | E10: 2024 | F10: 2023-2025 | H10: =SUBTOTAL(9,H11:H15) -> 58240082 | I10: =SUBTOTAL(9,I11:I15) -> 51609983 | J10: =SUBTOTAL(9,J11:J15) -> 40885198 | K10: =SUBTOTAL(9,K11:K15) -> 52114586 | L10: =SUBTOTAL(9,L11:L15) -> 44506849 | M10: =SUBTOTAL(9,M11:M15) -> 40044340 | N10: =SUBTOTAL(9,N11:N15) -> 43214318 | O10: =SUBTOTAL(9,O11:O15) -> 35794097 | ... AK10: =SUBTOTAL(9,AK11:AK15) -> 3.6640945e+08
A11: =A10 -> 1A | C11: On-Going CapX (exc water) | H11: =HLOOKUP($A11,'Scenario 1'!$I$42:$N$72,Summary!H$2-2015,FALSE) -> 18803258 | I11: =HLOOKUP($A11,'Scenario 1'!$I$42:$N$72,Summary!I$2-2015,FALSE) -> 15515714 | J11: =HLOOKUP($A11,'Scenario 1'!$I$42:$N$72,Summary!J$2-2015,FALSE) -> 10355907 | K11: =HLOOKUP($A11,'Scenario 1'!$I$42:$N$72,Summary!K$2-2015,FALSE) -> 16689718 | L11: =HLOOKUP($A11,'Scenario 1'!$I$42:$N$72,Summary!L$2-2015,FALSE) -> 10703911 | M11: =HLOOKUP($A11,'Scenario 1'!$I$42:$N$72,Summary!M$2-2015,FALSE) -> 5236302.9 | N11: =HLOOKUP($A11,'Scenario 1'!$I$42:$N$72,Summary!N$2-2015,FALSE) -> 3715892.4 | O11: =HLOOKUP($A11,'Scenario 1'!$I$42:$N$72,Summary!O$2-2015,FALSE) -> 609811.12 | ... AJ11: =HLOOKUP($A11,'Scenario 1'!$I$42:$N$72,Summary!AJ$2-2015,FALSE) -> 0 | AK11: =SUM(H11:AJ11) -> 81630515
A12: =A11 -> 1A | C12: CapX Water Costs | H12: =HLOOKUP($A12,'Scenario 1'!$I$75:$N$105,Summary!H$2-2015,FALSE) -> 8600000 | I12: =HLOOKUP($A12,'Scenario 1'!$I$75:$N$105,Summary!I$2-2015,FALSE) -> 4641000 | J12: =HLOOKUP($A12,'Scenario 1'!$I$75:$N$105,Summary!J$2-2015,FALSE) -> 728000 | K12: =HLOOKUP($A12,'Scenario 1'!$I$75:$N$105,Summary!K$2-2015,FALSE) -> 2015208 | L12: =HLOOKUP($A12,'Scenario 1'!$I$75:$N$105,Summary!L$2-2015,FALSE) -> 648000 | M12: =HLOOKUP($A12,'Scenario 1'!$I$75:$N$105,Summary!M$2-2015,FALSE) -> 990000 | N12: =HLOOKUP($A12,'Scenario 1'!$I$75:$N$105,Summary!N$2-2015,FALSE) -> 5004027.9 | O12: =HLOOKUP($A12,'Scenario 1'!$I$75:$N$105,Summary!O$2-2015,FALSE) -> 0 | ... AJ12: =HLOOKUP($A12,'Scenario 1'!$I$75:$N$105,Summary!AJ$2-2015,FALSE) -> 0 | AK12: =SUM(H12:AJ12) -> 22626236
A13: =A12 -> 1A | C13: Fixed O&M Labor | H13: =HLOOKUP($A13,'Scenario 1'!$I$108:$N$138,Summary!H$2-2015,FALSE) -> 18063856 | I13: =HLOOKUP($A13,'Scenario 1'!$I$108:$N$138,Summary!I$2-2015,FALSE) -> 18538570 | J13: =HLOOKUP($A13,'Scenario 1'!$I$108:$N$138,Summary!J$2-2015,FALSE) -> 18854305 | K13: =HLOOKUP($A13,'Scenario 1'!$I$108:$N$138,Summary!K$2-2015,FALSE) -> 19834948 | L13: =HLOOKUP($A13,'Scenario 1'!$I$108:$N$138,Summary!L$2-2015,FALSE) -> 19947342 | M13: =HLOOKUP($A13,'Scenario 1'!$I$108:$N$138,Summary!M$2-2015,FALSE) -> 20346289 | N13: =HLOOKUP($A13,'Scenario 1'!$I$108:$N$138,Summary!N$2-2015,FALSE) -> 20753215 | O13: =HLOOKUP($A13,'Scenario 1'!$I$108:$N$138,Summary!O$2-2015,FALSE) -> 21168279 | ... AJ13: =HLOOKUP($A13,'Scenario 1'!$I$108:$N$138,Summary!AJ$2-2015,FALSE) -> 0 | AK13: =SUM(H13:AJ13) -> 1.575068e+08
A14: =A13 -> 1A | C14: Fixed O&M Other | H14: =HLOOKUP($A14,'Scenario 1'!$I$143:$N$173,Summary!H$2-2015,FALSE) -> 10696150 | I14: =HLOOKUP($A14,'Scenario 1'!$I$143:$N$173,Summary!I$2-2015,FALSE) -> 10735594 | J14: =HLOOKUP($A14,'Scenario 1'!$I$143:$N$173,Summary!J$2-2015,FALSE) -> 8134829.1 | K14: =HLOOKUP($A14,'Scenario 1'!$I$143:$N$173,Summary!K$2-2015,FALSE) -> 10672832 | L14: =HLOOKUP($A14,'Scenario 1'!$I$143:$N$173,Summary!L$2-2015,FALSE) -> 10192874 | M14: =HLOOKUP($A14,'Scenario 1'!$I$143:$N$173,Summary!M$2-2015,FALSE) -> 10396731 | N14: =HLOOKUP($A14,'Scenario 1'!$I$143:$N$173,Summary!N$2-2015,FALSE) -> 10604666 | O14: =HLOOKUP($A14,'Scenario 1'!$I$143:$N$173,Summary!O$2-2015,FALSE) -> 10816759 | ... AJ14: =HLOOKUP($A14,'Scenario 1'!$I$143:$N$173,Summary!AJ$2-2015,FALSE) -> 0 | AK14: =SUM(H14:AJ14) -> 82250436
A15: =A14 -> 1A | C15: Variable O&M | H15: =HLOOKUP($A15,'Scenario 1'!$I$178:$N$208,Summary!H$2-2015,FALSE) -> 2076817 | I15: =HLOOKUP($A15,'Scenario 1'!$I$178:$N$208,Summary!I$2-2015,FALSE) -> 2179106 | J15: =HLOOKUP($A15,'Scenario 1'!$I$178:$N$208,Summary!J$2-2015,FALSE) -> 2812156 | K15: =HLOOKUP($A15,'Scenario 1'!$I$178:$N$208,Summary!K$2-2015,FALSE) -> 2901879 | L15: =HLOOKUP($A15,'Scenario 1'!$I$178:$N$208,Summary!L$2-2015,FALSE) -> 3014722 | M15: =HLOOKUP($A15,'Scenario 1'!$I$178:$N$208,Summary!M$2-2015,FALSE) -> 3075016.4 | N15: =HLOOKUP($A15,'Scenario 1'!$I$178:$N$208,Summary!N$2-2015,FALSE) -> 3136516.8 | O15: =HLOOKUP($A15,'Scenario 1'!$I$178:$N$208,Summary!O$2-2015,FALSE) -> 3199247.1 | ... AJ15: =HLOOKUP($A15,'Scenario 1'!$I$178:$N$208,Summary!AJ$2-2015,FALSE) -> 0 | AK15: =SUM(H15:AJ15) -> 22395460
A16: 1B | B16: =CONCATENATE("Sensitivity ",A16) -> Sensitivity 1B | C16: Status quo plus acquisition 1 (15,000 AF) | D16: 2025 | E16: 2025 | F16: 2024-2026 | H16: =SUBTOTAL(9,H17:H21) -> 58490082 | I16: =SUBTOTAL(9,I17:I21) -> 51609983 | J16: =SUBTOTAL(9,J17:J21) -> 40885198 | K16: =SUBTOTAL(9,K17:K21) -> 52114586 | L16: =SUBTOTAL(9,L17:L21) -> 48566953 | M16: =SUBTOTAL(9,M17:M21) -> 42619394 | N16: =SUBTOTAL(9,N17:N21) -> 47937321 | O16: =SUBTOTAL(9,O17:O21) -> 39326429 | ... AK16: =SUBTOTAL(9,AK17:AK21) -> 4.1788294e+08
A17: =A16 -> 1B | C17: On-Going CapX (exc water) | H17: =HLOOKUP($A17,'Scenario 1'!$I$42:$N$72,Summary!H$2-2015,FALSE) -> 18803258 | I17: =HLOOKUP($A17,'Scenario 1'!$I$42:$N$72,Summary!I$2-2015,FALSE) -> 15515714 | J17: =HLOOKUP($A17,'Scenario 1'!$I$42:$N$72,Summary!J$2-2015,FALSE) -> 10355907 | K17: =HLOOKUP($A17,'Scenario 1'!$I$42:$N$72,Summary!K$2-2015,FALSE) -> 16689718 | L17: =HLOOKUP($A17,'Scenario 1'!$I$42:$N$72,Summary!L$2-2015,FALSE) -> 14764015 | M17: =HLOOKUP($A17,'Scenario 1'!$I$42:$N$72,Summary!M$2-2015,FALSE) -> 7811357.2 | N17: =HLOOKUP($A17,'Scenario 1'!$I$42:$N$72,Summary!N$2-2015,FALSE) -> 8438895.8 | O17: =HLOOKUP($A17,'Scenario 1'!$I$42:$N$72,Summary!O$2-2015,FALSE) -> 3287143 | ... AJ17: =HLOOKUP($A17,'Scenario 1'!$I$42:$N$72,Summary!AJ$2-2015,FALSE) -> 0 | AK17: =SUM(H17:AJ17) -> 96111029
A18: =A17 -> 1B | C18: CapX Water Costs | H18: =HLOOKUP($A18,'Scenario 1'!$I$75:$N$105,Summary!H$2-2015,FALSE) -> 8850000 | I18: =HLOOKUP($A18,'Scenario 1'!$I$75:$N$105,Summary!I$2-2015,FALSE) -> 4641000 | J18: =HLOOKUP($A18,'Scenario 1'!$I$75:$N$105,Summary!J$2-2015,FALSE) -> 728000 | K18: =HLOOKUP($A18,'Scenario 1'!$I$75:$N$105,Summary!K$2-2015,FALSE) -> 2015208 | L18: =HLOOKUP($A18,'Scenario 1'!$I$75:$N$105,Summary!L$2-2015,FALSE) -> 648000 | M18: =HLOOKUP($A18,'Scenario 1'!$I$75:$N$105,Summary!M$2-2015,FALSE) -> 990000 | N18: =HLOOKUP($A18,'Scenario 1'!$I$75:$N$105,Summary!N$2-2015,FALSE) -> 5004027.9 | O18: =HLOOKUP($A18,'Scenario 1'!$I$75:$N$105,Summary!O$2-2015,FALSE) -> 855000 | ... AJ18: =HLOOKUP($A18,'Scenario 1'!$I$75:$N$105,Summary!AJ$2-2015,FALSE) -> 0 | AK18: =SUM(H18:AJ18) -> 23731236
A19: =A18 -> 1B | C19: Fixed O&M Labor | H19: =HLOOKUP($A19,'Scenario 1'!$I$108:$N$138,Summary!H$2-2015,FALSE) -> 18063856 | I19: =HLOOKUP($A19,'Scenario 1'!$I$108:$N$138,Summary!I$2-2015,FALSE) -> 18538570 | J19: =HLOOKUP($A19,'Scenario 1'!$I$108:$N$138,Summary!J$2-2015,FALSE) -> 18854305 | K19: =HLOOKUP($A19,'Scenario 1'!$I$108:$N$138,Summary!K$2-2015,FALSE) -> 19834948 | L19: =HLOOKUP($A19,'Scenario 1'!$I$108:$N$138,Summary!L$2-2015,FALSE) -> 19947342 | M19: =HLOOKUP($A19,'Scenario 1'!$I$108:$N$138,Summary!M$2-2015,FALSE) -> 20346289 | N19: =HLOOKUP($A19,'Scenario 1'!$I$108:$N$138,Summary!N$2-2015,FALSE) -> 20753215 | O19: =HLOOKUP($A19,'Scenario 1'!$I$108:$N$138,Summary!O$2-2015,FALSE) -> 21168279 | ... AJ19: =HLOOKUP($A19,'Scenario 1'!$I$108:$N$138,Summary!AJ$2-2015,FALSE) -> 0 | AK19: =SUM(H19:AJ19) -> 1.7909845e+08
A20: =A19 -> 1B | C20: Fixed O&M Other | H20: =HLOOKUP($A20,'Scenario 1'!$I$143:$N$173,Summary!H$2-2015,FALSE) -> 10696150 | I20: =HLOOKUP($A20,'Scenario 1'!$I$143:$N$173,Summary!I$2-2015,FALSE) -> 10735594 | J20: =HLOOKUP($A20,'Scenario 1'!$I$143:$N$173,Summary!J$2-2015,FALSE) -> 8134829.1 | K20: =HLOOKUP($A20,'Scenario 1'!$I$143:$N$173,Summary!K$2-2015,FALSE) -> 10672832 | L20: =HLOOKUP($A20,'Scenario 1'!$I$143:$N$173,Summary!L$2-2015,FALSE) -> 10192874 | M20: =HLOOKUP($A20,'Scenario 1'!$I$143:$N$173,Summary!M$2-2015,FALSE) -> 10396731 | N20: =HLOOKUP($A20,'Scenario 1'!$I$143:$N$173,Summary!N$2-2015,FALSE) -> 10604666 | O20: =HLOOKUP($A20,'Scenario 1'!$I$143:$N$173,Summary!O$2-2015,FALSE) -> 10816759 | ... AJ20: =HLOOKUP($A20,'Scenario 1'!$I$143:$N$173,Summary!AJ$2-2015,FALSE) -> 0 | AK20: =SUM(H20:AJ20) -> 93283531
A21: =A20 -> 1B | C21: Variable O&M | H21: =HLOOKUP($A21,'Scenario 1'!$I$178:$N$208,Summary!H$2-2015,FALSE) -> 2076817 | I21: =HLOOKUP($A21,'Scenario 1'!$I$178:$N$208,Summary!I$2-2015,FALSE) -> 2179106 | J21: =HLOOKUP($A21,'Scenario 1'!$I$178:$N$208,Summary!J$2-2015,FALSE) -> 2812156 | K21: =HLOOKUP($A21,'Scenario 1'!$I$178:$N$208,Summary!K$2-2015,FALSE) -> 2901879 | L21: =HLOOKUP($A21,'Scenario 1'!$I$178:$N$208,Summary!L$2-2015,FALSE) -> 3014722 | M21: =HLOOKUP($A21,'Scenario 1'!$I$178:$N$208,Summary!M$2-2015,FALSE) -> 3075016.4 | N21: =HLOOKUP($A21,'Scenario 1'!$I$178:$N$208,Summary!N$2-2015,FALSE) -> 3136516.8 | O21: =HLOOKUP($A21,'Scenario 1'!$I$178:$N$208,Summary!O$2-2015,FALSE) -> 3199247.1 | ... AJ21: =HLOOKUP($A21,'Scenario 1'!$I$178:$N$208,Summary!AJ$2-2015,FALSE) -> 0 | AK21: =SUM(H21:AJ21) -> 25658692
A22: 1C | B22: =CONCATENATE("Sensitivity ",A22) -> Sensitivity 1C | C22: Status quo plus acquisition 1-2 (30,000 AF) | D22: 2027 | E22: 2027 | F22: 2026-2028 | H22: =SUBTOTAL(9,H23:H27) -> 58490082 | I22: =SUBTOTAL(9,I23:I27) -> 59859983 | J22: =SUBTOTAL(9,J23:J27) -> 40885198 | K22: =SUBTOTAL(9,K23:K27) -> 52114586 | L22: =SUBTOTAL(9,L23:L27) -> 48566953 | M22: =SUBTOTAL(9,M23:M27) -> 45582323 | N22: =SUBTOTAL(9,N23:N27) -> 56862409 | O22: =SUBTOTAL(9,O23:O27) -> 47175635 | ... AK22: =SUBTOTAL(9,AK23:AK27) -> 5.3054202e+08
A23: =A22 -> 1C | C23: On-Going CapX (exc water) | H23: =HLOOKUP($A23,'Scenario 1'!$I$42:$N$72,Summary!H$2-2015,FALSE) -> 18803258 | I23: =HLOOKUP($A23,'Scenario 1'!$I$42:$N$72,Summary!I$2-2015,FALSE) -> 15515714 | J23: =HLOOKUP($A23,'Scenario 1'!$I$42:$N$72,Summary!J$2-2015,FALSE) -> 10355907 | K23: =HLOOKUP($A23,'Scenario 1'!$I$42:$N$72,Summary!K$2-2015,FALSE) -> 16689718 | L23: =HLOOKUP($A23,'Scenario 1'!$I$42:$N$72,Summary!L$2-2015,FALSE) -> 14764015 | M23: =HLOOKUP($A23,'Scenario 1'!$I$42:$N$72,Summary!M$2-2015,FALSE) -> 10774286 | N23: =HLOOKUP($A23,'Scenario 1'!$I$42:$N$72,Summary!N$2-2015,FALSE) -> 17363983 | O23: =HLOOKUP($A23,'Scenario 1'!$I$42:$N$72,Summary!O$2-2015,FALSE) -> 11136349 | ... AJ23: =HLOOKUP($A23,'Scenario 1'!$I$42:$N$72,Summary!AJ$2-2015,FALSE) -> 0 | AK23: =SUM(H23:AJ23) -> 1.2535154e+08
A24: =A23 -> 1C | C24: CapX Water Costs | H24: =HLOOKUP($A24,'Scenario 1'!$I$75:$N$105,Summary!H$2-2015,FALSE) -> 8850000 | I24: =HLOOKUP($A24,'Scenario 1'!$I$75:$N$105,Summary!I$2-2015,FALSE) -> 12891000 | J24: =HLOOKUP($A24,'Scenario 1'!$I$75:$N$105,Summary!J$2-2015,FALSE) -> 728000 | K24: =HLOOKUP($A24,'Scenario 1'!$I$75:$N$105,Summary!K$2-2015,FALSE) -> 2015208 | L24: =HLOOKUP($A24,'Scenario 1'!$I$75:$N$105,Summary!L$2-2015,FALSE) -> 648000 | M24: =HLOOKUP($A24,'Scenario 1'!$I$75:$N$105,Summary!M$2-2015,FALSE) -> 990000 | N24: =HLOOKUP($A24,'Scenario 1'!$I$75:$N$105,Summary!N$2-2015,FALSE) -> 5004027.9 | O24: =HLOOKUP($A24,'Scenario 1'!$I$75:$N$105,Summary!O$2-2015,FALSE) -> 855000 | ... AJ24: =HLOOKUP($A24,'Scenario 1'!$I$75:$N$105,Summary!AJ$2-2015,FALSE) -> 0 | AK24: =SUM(H24:AJ24) -> 33206231
A25: =A24 -> 1C | C25: Fixed O&M Labor | H25: =HLOOKUP($A25,'Scenario 1'!$I$108:$N$138,Summary!H$2-2015,FALSE) -> 18063856 | I25: =HLOOKUP($A25,'Scenario 1'!$I$108:$N$138,Summary!I$2-2015,FALSE) -> 18538570 | J25: =HLOOKUP($A25,'Scenario 1'!$I$108:$N$138,Summary!J$2-2015,FALSE) -> 18854305 | K25: =HLOOKUP($A25,'Scenario 1'!$I$108:$N$138,Summary!K$2-2015,FALSE) -> 19834948 | L25: =HLOOKUP($A25,'Scenario 1'!$I$108:$N$138,Summary!L$2-2015,FALSE) -> 19947342 | M25: =HLOOKUP($A25,'Scenario 1'!$I$108:$N$138,Summary!M$2-2015,FALSE) -> 20346289 | N25: =HLOOKUP($A25,'Scenario 1'!$I$108:$N$138,Summary!N$2-2015,FALSE) -> 20753215 | O25: =HLOOKUP($A25,'Scenario 1'!$I$108:$N$138,Summary!O$2-2015,FALSE) -> 21168279 | ... AJ25: =HLOOKUP($A25,'Scenario 1'!$I$108:$N$138,Summary!AJ$2-2015,FALSE) -> 0 | AK25: =SUM(H25:AJ25) -> 2.2358587e+08
A26: =A25 -> 1C | C26: Fixed O&M Other | H26: =HLOOKUP($A26,'Scenario 1'!$I$143:$N$173,Summary!H$2-2015,FALSE) -> 10696150 | I26: =HLOOKUP($A26,'Scenario 1'!$I$143:$N$173,Summary!I$2-2015,FALSE) -> 10735594 | J26: =HLOOKUP($A26,'Scenario 1'!$I$143:$N$173,Summary!J$2-2015,FALSE) -> 8134829.1 | K26: =HLOOKUP($A26,'Scenario 1'!$I$143:$N$173,Summary!K$2-2015,FALSE) -> 10672832 | L26: =HLOOKUP($A26,'Scenario 1'!$I$143:$N$173,Summary!L$2-2015,FALSE) -> 10192874 | M26: =HLOOKUP($A26,'Scenario 1'!$I$143:$N$173,Summary!M$2-2015,FALSE) -> 10396731 | N26: =HLOOKUP($A26,'Scenario 1'!$I$143:$N$173,Summary!N$2-2015,FALSE) -> 10604666 | O26: =HLOOKUP($A26,'Scenario 1'!$I$143:$N$173,Summary!O$2-2015,FALSE) -> 10816759 | ... AJ26: =HLOOKUP($A26,'Scenario 1'!$I$143:$N$173,Summary!AJ$2-2015,FALSE) -> 0 | AK26: =SUM(H26:AJ26) -> 1.1601612e+08
A27: =A26 -> 1C | C27: Variable O&M | H27: =HLOOKUP($A27,'Scenario 1'!$I$178:$N$208,Summary!H$2-2015,FALSE) -> 2076817 | I27: =HLOOKUP($A27,'Scenario 1'!$I$178:$N$208,Summary!I$2-2015,FALSE) -> 2179106 | J27: =HLOOKUP($A27,'Scenario 1'!$I$178:$N$208,Summary!J$2-2015,FALSE) -> 2812156 | K27: =HLOOKUP($A27,'Scenario 1'!$I$178:$N$208,Summary!K$2-2015,FALSE) -> 2901879 | L27: =HLOOKUP($A27,'Scenario 1'!$I$178:$N$208,Summary!L$2-2015,FALSE) -> 3014722 | M27: =HLOOKUP($A27,'Scenario 1'!$I$178:$N$208,Summary!M$2-2015,FALSE) -> 3075016.4 | N27: =HLOOKUP($A27,'Scenario 1'!$I$178:$N$208,Summary!N$2-2015,FALSE) -> 3136516.8 | O27: =HLOOKUP($A27,'Scenario 1'!$I$178:$N$208,Summary!O$2-2015,FALSE) -> 3199247.1 | ... AJ27: =HLOOKUP($A27,'Scenario 1'!$I$178:$N$208,Summary!AJ$2-2015,FALSE) -> 0 | AK27: =SUM(H27:AJ27) -> 32382256
A28: 1D | B28: =CONCATENATE("Sensitivity ",A28) -> Sensitivity 1D | C28: Status quo plus acquisition 1-3 (60,000 AF) | D28: 2029 | E28: 2029 | F28: 2028-2030 | H28: =SUBTOTAL(9,H29:H33) -> 58490082 | I28: =SUBTOTAL(9,I29:I33) -> 59859983 | J28: =SUBTOTAL(9,J29:J33) -> 57385198 | K28: =SUBTOTAL(9,K29:K33) -> 52114586 | L28: =SUBTOTAL(9,L29:L33) -> 48566953 | M28: =SUBTOTAL(9,M29:M33) -> 45582323 | N28: =SUBTOTAL(9,N29:N33) -> 56862409 | O28: =SUBTOTAL(9,O29:O33) -> 51399767 | ... AK28: =SUBTOTAL(9,AK29:AK33) -> 6.5537884e+08
A29: =A28 -> 1D | C29: On-Going CapX (exc water) | H29: =HLOOKUP($A29,'Scenario 1'!$I$42:$N$72,Summary!H$2-2015,FALSE) -> 18803258 | I29: =HLOOKUP($A29,'Scenario 1'!$I$42:$N$72,Summary!I$2-2015,FALSE) -> 15515714 | J29: =HLOOKUP($A29,'Scenario 1'!$I$42:$N$72,Summary!J$2-2015,FALSE) -> 10355907 | K29: =HLOOKUP($A29,'Scenario 1'!$I$42:$N$72,Summary!K$2-2015,FALSE) -> 16689718 | L29: =HLOOKUP($A29,'Scenario 1'!$I$42:$N$72,Summary!L$2-2015,FALSE) -> 14764015 | M29: =HLOOKUP($A29,'Scenario 1'!$I$42:$N$72,Summary!M$2-2015,FALSE) -> 10774286 | N29: =HLOOKUP($A29,'Scenario 1'!$I$42:$N$72,Summary!N$2-2015,FALSE) -> 17363983 | O29: =HLOOKUP($A29,'Scenario 1'!$I$42:$N$72,Summary!O$2-2015,FALSE) -> 15360482 | ... AJ29: =HLOOKUP($A29,'Scenario 1'!$I$42:$N$72,Summary!AJ$2-2015,FALSE) -> 0 | AK29: =SUM(H29:AJ29) -> 1.5500797e+08
A30: =A29 -> 1D | C30: CapX Water Costs | H30: =HLOOKUP($A30,'Scenario 1'!$I$75:$N$105,Summary!H$2-2015,FALSE) -> 8850000 | I30: =HLOOKUP($A30,'Scenario 1'!$I$75:$N$105,Summary!I$2-2015,FALSE) -> 12891000 | J30: =HLOOKUP($A30,'Scenario 1'!$I$75:$N$105,Summary!J$2-2015,FALSE) -> 17228000 | K30: =HLOOKUP($A30,'Scenario 1'!$I$75:$N$105,Summary!K$2-2015,FALSE) -> 2015208 | L30: =HLOOKUP($A30,'Scenario 1'!$I$75:$N$105,Summary!L$2-2015,FALSE) -> 648000 | M30: =HLOOKUP($A30,'Scenario 1'!$I$75:$N$105,Summary!M$2-2015,FALSE) -> 990000 | N30: =HLOOKUP($A30,'Scenario 1'!$I$75:$N$105,Summary!N$2-2015,FALSE) -> 5004027.9 | O30: =HLOOKUP($A30,'Scenario 1'!$I$75:$N$105,Summary!O$2-2015,FALSE) -> 855000 | ... AJ30: =HLOOKUP($A30,'Scenario 1'!$I$75:$N$105,Summary!AJ$2-2015,FALSE) -> 0 | AK30: =SUM(H30:AJ30) -> 51455729
A31: =A30 -> 1D | C31: Fixed O&M Labor | H31: =HLOOKUP($A31,'Scenario 1'!$I$108:$N$138,Summary!H$2-2015,FALSE) -> 18063856 | I31: =HLOOKUP($A31,'Scenario 1'!$I$108:$N$138,Summary!I$2-2015,FALSE) -> 18538570 | J31: =HLOOKUP($A31,'Scenario 1'!$I$108:$N$138,Summary!J$2-2015,FALSE) -> 18854305 | K31: =HLOOKUP($A31,'Scenario 1'!$I$108:$N$138,Summary!K$2-2015,FALSE) -> 19834948 | L31: =HLOOKUP($A31,'Scenario 1'!$I$108:$N$138,Summary!L$2-2015,FALSE) -> 19947342 | M31: =HLOOKUP($A31,'Scenario 1'!$I$108:$N$138,Summary!M$2-2015,FALSE) -> 20346289 | N31: =HLOOKUP($A31,'Scenario 1'!$I$108:$N$138,Summary!N$2-2015,FALSE) -> 20753215 | O31: =HLOOKUP($A31,'Scenario 1'!$I$108:$N$138,Summary!O$2-2015,FALSE) -> 21168279 | ... AJ31: =HLOOKUP($A31,'Scenario 1'!$I$108:$N$138,Summary!AJ$2-2015,FALSE) -> 0 | AK31: =SUM(H31:AJ31) -> 2.6987059e+08
A32: =A31 -> 1D | C32: Fixed O&M Other | H32: =HLOOKUP($A32,'Scenario 1'!$I$143:$N$173,Summary!H$2-2015,FALSE) -> 10696150 | I32: =HLOOKUP($A32,'Scenario 1'!$I$143:$N$173,Summary!I$2-2015,FALSE) -> 10735594 | J32: =HLOOKUP($A32,'Scenario 1'!$I$143:$N$173,Summary!J$2-2015,FALSE) -> 8134829.1 | K32: =HLOOKUP($A32,'Scenario 1'!$I$143:$N$173,Summary!K$2-2015,FALSE) -> 10672832 | L32: =HLOOKUP($A32,'Scenario 1'!$I$143:$N$173,Summary!L$2-2015,FALSE) -> 10192874 | M32: =HLOOKUP($A32,'Scenario 1'!$I$143:$N$173,Summary!M$2-2015,FALSE) -> 10396731 | N32: =HLOOKUP($A32,'Scenario 1'!$I$143:$N$173,Summary!N$2-2015,FALSE) -> 10604666 | O32: =HLOOKUP($A32,'Scenario 1'!$I$143:$N$173,Summary!O$2-2015,FALSE) -> 10816759 | ... AJ32: =HLOOKUP($A32,'Scenario 1'!$I$143:$N$173,Summary!AJ$2-2015,FALSE) -> 0 | AK32: =SUM(H32:AJ32) -> 1.396671e+08
A33: =A32 -> 1D | C33: Variable O&M | H33: =HLOOKUP($A33,'Scenario 1'!$I$178:$N$208,Summary!H$2-2015,FALSE) -> 2076817 | I33: =HLOOKUP($A33,'Scenario 1'!$I$178:$N$208,Summary!I$2-2015,FALSE) -> 2179106 | J33: =HLOOKUP($A33,'Scenario 1'!$I$178:$N$208,Summary!J$2-2015,FALSE) -> 2812156 | K33: =HLOOKUP($A33,'Scenario 1'!$I$178:$N$208,Summary!K$2-2015,FALSE) -> 2901879 | L33: =HLOOKUP($A33,'Scenario 1'!$I$178:$N$208,Summary!L$2-2015,FALSE) -> 3014722 | M33: =HLOOKUP($A33,'Scenario 1'!$I$178:$N$208,Summary!M$2-2015,FALSE) -> 3075016.4 | N33: =HLOOKUP($A33,'Scenario 1'!$I$178:$N$208,Summary!N$2-2015,FALSE) -> 3136516.8 | O33: =HLOOKUP($A33,'Scenario 1'!$I$178:$N$208,Summary!O$2-2015,FALSE) -> 3199247.1 | ... AJ33: =HLOOKUP($A33,'Scenario 1'!$I$178:$N$208,Summary!AJ$2-2015,FALSE) -> 0 | AK33: =SUM(H33:AJ33) -> 39377451
A34: 1E | B34: =CONCATENATE("Sensitivity ",A34) -> Sensitivity 1E | C34: Status quo plus acquisition 1-4 (90,000 AF) | D34: 2031 | E34: 2031 | F34: 2030-2032 | H34: =SUBTOTAL(9,H35:H39) -> 58490082 | I34: =SUBTOTAL(9,I35:I39) -> 59859983 | J34: =SUBTOTAL(9,J35:J39) -> 57385198 | K34: =SUBTOTAL(9,K35:K39) -> 68614586 | L34: =SUBTOTAL(9,L35:L39) -> 48566953 | M34: =SUBTOTAL(9,M35:M39) -> 45582323 | N34: =SUBTOTAL(9,N35:N39) -> 56862409 | O34: =SUBTOTAL(9,O35:O39) -> 51399767 | ... AK34: =SUBTOTAL(9,AK35:AK39) -> 7.8689462e+08
A35: =A34 -> 1E | C35: On-Going CapX (exc water) | H35: =HLOOKUP($A35,'Scenario 1'!$I$42:$N$72,Summary!H$2-2015,FALSE) -> 18803258 | I35: =HLOOKUP($A35,'Scenario 1'!$I$42:$N$72,Summary!I$2-2015,FALSE) -> 15515714 | J35: =HLOOKUP($A35,'Scenario 1'!$I$42:$N$72,Summary!J$2-2015,FALSE) -> 10355907 | K35: =HLOOKUP($A35,'Scenario 1'!$I$42:$N$72,Summary!K$2-2015,FALSE) -> 16689718 | L35: =HLOOKUP($A35,'Scenario 1'!$I$42:$N$72,Summary!L$2-2015,FALSE) -> 14764015 | M35: =HLOOKUP($A35,'Scenario 1'!$I$42:$N$72,Summary!M$2-2015,FALSE) -> 10774286 | N35: =HLOOKUP($A35,'Scenario 1'!$I$42:$N$72,Summary!N$2-2015,FALSE) -> 17363983 | O35: =HLOOKUP($A35,'Scenario 1'!$I$42:$N$72,Summary!O$2-2015,FALSE) -> 15360482 | ... AJ35: =HLOOKUP($A35,'Scenario 1'!$I$42:$N$72,Summary!AJ$2-2015,FALSE) -> 0 | AK35: =SUM(H35:AJ35) -> 1.868745e+08
A36: =A35 -> 1E | C36: CapX Water Costs | H36: =HLOOKUP($A36,'Scenario 1'!$I$75:$N$105,Summary!H$2-2015,FALSE) -> 8850000 | I36: =HLOOKUP($A36,'Scenario 1'!$I$75:$N$105,Summary!I$2-2015,FALSE) -> 12891000 | J36: =HLOOKUP($A36,'Scenario 1'!$I$75:$N$105,Summary!J$2-2015,FALSE) -> 17228000 | K36: =HLOOKUP($A36,'Scenario 1'!$I$75:$N$105,Summary!K$2-2015,FALSE) -> 18515208 | L36: =HLOOKUP($A36,'Scenario 1'!$I$75:$N$105,Summary!L$2-2015,FALSE) -> 648000 | M36: =HLOOKUP($A36,'Scenario 1'!$I$75:$N$105,Summary!M$2-2015,FALSE) -> 990000 | N36: =HLOOKUP($A36,'Scenario 1'!$I$75:$N$105,Summary!N$2-2015,FALSE) -> 5004027.9 | O36: =HLOOKUP($A36,'Scenario 1'!$I$75:$N$105,Summary!O$2-2015,FALSE) -> 855000 | ... AJ36: =HLOOKUP($A36,'Scenario 1'!$I$75:$N$105,Summary!AJ$2-2015,FALSE) -> 0 | AK36: =SUM(H36:AJ36) -> 71066068
A37: =A36 -> 1E | C37: Fixed O&M Labor | H37: =HLOOKUP($A37,'Scenario 1'!$I$108:$N$138,Summary!H$2-2015,FALSE) -> 18063856 | I37: =HLOOKUP($A37,'Scenario 1'!$I$108:$N$138,Summary!I$2-2015,FALSE) -> 18538570 | J37: =HLOOKUP($A37,'Scenario 1'!$I$108:$N$138,Summary!J$2-2015,FALSE) -> 18854305 | K37: =HLOOKUP($A37,'Scenario 1'!$I$108:$N$138,Summary!K$2-2015,FALSE) -> 19834948 | L37: =HLOOKUP($A37,'Scenario 1'!$I$108:$N$138,Summary!L$2-2015,FALSE) -> 19947342 | M37: =HLOOKUP($A37,'Scenario 1'!$I$108:$N$138,Summary!M$2-2015,FALSE) -> 20346289 | N37: =HLOOKUP($A37,'Scenario 1'!$I$108:$N$138,Summary!N$2-2015,FALSE) -> 20753215 | O37: =HLOOKUP($A37,'Scenario 1'!$I$108:$N$138,Summary!O$2-2015,FALSE) -> 21168279 | ... AJ37: =HLOOKUP($A37,'Scenario 1'!$I$108:$N$138,Summary!AJ$2-2015,FALSE) -> 0 | AK37: =SUM(H37:AJ37) -> 3.1802521e+08
A38: =A37 -> 1E | C38: Fixed O&M Other | H38: =HLOOKUP($A38,'Scenario 1'!$I$143:$N$173,Summary!H$2-2015,FALSE) -> 10696150 | I38: =HLOOKUP($A38,'Scenario 1'!$I$143:$N$173,Summary!I$2-2015,FALSE) -> 10735594 | J38: =HLOOKUP($A38,'Scenario 1'!$I$143:$N$173,Summary!J$2-2015,FALSE) -> 8134829.1 | K38: =HLOOKUP($A38,'Scenario 1'!$I$143:$N$173,Summary!K$2-2015,FALSE) -> 10672832 | L38: =HLOOKUP($A38,'Scenario 1'!$I$143:$N$173,Summary!L$2-2015,FALSE) -> 10192874 | M38: =HLOOKUP($A38,'Scenario 1'!$I$143:$N$173,Summary!M$2-2015,FALSE) -> 10396731 | N38: =HLOOKUP($A38,'Scenario 1'!$I$143:$N$173,Summary!N$2-2015,FALSE) -> 10604666 | O38: =HLOOKUP($A38,'Scenario 1'!$I$143:$N$173,Summary!O$2-2015,FALSE) -> 10816759 | ... AJ38: =HLOOKUP($A38,'Scenario 1'!$I$143:$N$173,Summary!AJ$2-2015,FALSE) -> 0 | AK38: =SUM(H38:AJ38) -> 1.6427359e+08
A39: =A38 -> 1E | C39: Variable O&M | H39: =HLOOKUP($A39,'Scenario 1'!$I$178:$N$208,Summary!H$2-2015,FALSE) -> 2076817 | I39: =HLOOKUP($A39,'Scenario 1'!$I$178:$N$208,Summary!I$2-2015,FALSE) -> 2179106 | J39: =HLOOKUP($A39,'Scenario 1'!$I$178:$N$208,Summary!J$2-2015,FALSE) -> 2812156 | K39: =HLOOKUP($A39,'Scenario 1'!$I$178:$N$208,Summary!K$2-2015,FALSE) -> 2901879 | L39: =HLOOKUP($A39,'Scenario 1'!$I$178:$N$208,Summary!L$2-2015,FALSE) -> 3014722 | M39: =HLOOKUP($A39,'Scenario 1'!$I$178:$N$208,Summary!M$2-2015,FALSE) -> 3075016.4 | N39: =HLOOKUP($A39,'Scenario 1'!$I$178:$N$208,Summary!N$2-2015,FALSE) -> 3136516.8 | O39: =HLOOKUP($A39,'Scenario 1'!$I$178:$N$208,Summary!O$2-2015,FALSE) -> 3199247.1 | ... AJ39: =HLOOKUP($A39,'Scenario 1'!$I$178:$N$208,Summary!AJ$2-2015,FALSE) -> 0 | AK39: =SUM(H39:AJ39) -> 46655252
A41: 2 | B41: =CONCATENATE("Sensitivity ",A41) -> Sensitivity 2 | C41: Scenario 2: 230MW, year-round (2018 start) (43% avg CF) | D41: 2027 | E41: 2027 | F41: 2025-2028 | H41: =SUBTOTAL(9,H42:H46) -> 50240082 | I41: =SUBTOTAL(9,I42:I46) -> 44835936 | J41: =SUBTOTAL(9,J42:J46) -> 35050554 | K41: =SUBTOTAL(9,K42:K46) -> 43777931 | L41: =SUBTOTAL(9,L42:L46) -> 41836211 | M41: =SUBTOTAL(9,M42:M46) -> 38944417 | N41: =SUBTOTAL(9,N42:N46) -> 45268169 | O41: =SUBTOTAL(9,O42:O46) -> 41544204 | ... AK41: =SUBTOTAL(9,AK42:AK46) -> 4.4493983e+08
A42: =A41 -> 2 | C42: On-Going CapX (exc water) | H42: =HLOOKUP($A42,'Scenario 2'!$I$42:$N$72,Summary!H$2-2015,FALSE) -> 18803258 | I42: =HLOOKUP($A42,'Scenario 2'!$I$42:$N$72,Summary!I$2-2015,FALSE) -> 13498671 | J42: =HLOOKUP($A42,'Scenario 2'!$I$42:$N$72,Summary!J$2-2015,FALSE) -> 9009639.2 | K42: =HLOOKUP($A42,'Scenario 2'!$I$42:$N$72,Summary!K$2-2015,FALSE) -> 14520055 | L42: =HLOOKUP($A42,'Scenario 2'!$I$42:$N$72,Summary!L$2-2015,FALSE) -> 12844693 | M42: =HLOOKUP($A42,'Scenario 2'!$I$42:$N$72,Summary!M$2-2015,FALSE) -> 9373628.6 | N42: =HLOOKUP($A42,'Scenario 2'!$I$42:$N$72,Summary!N$2-2015,FALSE) -> 15106665 | O42: =HLOOKUP($A42,'Scenario 2'!$I$42:$N$72,Summary!O$2-2015,FALSE) -> 9688623.7 | ... AJ42: =HLOOKUP($A42,'Scenario 2'!$I$42:$N$72,Summary!AJ$2-2015,FALSE) -> 0 | AK42: =SUM(H42:AJ42) -> 1.1150027e+08
...

Sheet Scenario 1
R1: CALCULATIONS ONLY >>>>>>>>>
B2: 1: Scenario Information
H4: Capacity Factor | J4: Derated CT | L4: Annual MWh | N4: Derated Annual MWh
B5: ID: | C5: Scenario Type | H5: Unit 1 | I5: Unit 2 | J5: Unit 1 | K5: Unit 2 | L5: Unit 1 | M5: Unit 2 | N5: Unit 1 | O5: Unit 2
B6: 1 | C6: Status quo | H6: =VLOOKUP($C6,Tables!$A2:$E9,2,FALSE) -> 0.84 | I6: =VLOOKUP($C6,Tables!$A2:$E9,3,FALSE) -> 0.84 | J6: =VLOOKUP($C6,Tables!$A2:$F9,4,FALSE) -> 0.84 | K6: =VLOOKUP($C6,Tables!$A2:$F9,5,FALSE) -> 0.84 | L6: =IF(ISERROR(H6*530*8760),"N/A",H6*530*8760) -> 3899952 | M6: =IF(ISERROR(I6*530*8760),"N/A",I6*530*8760) -> 3899952 | N6: =IF(ISERROR(J6*530*8760),"N/A",J6*530*8760) -> 3899952 | O6: =IF(ISERROR(K6*530*8760),"N/A",K6*530*8760) -> 3899952
B9: 2: Sensitivity Information
K11: *Leave blank if N/A | M11: *Do not delete
D12: Pipeline | F12: Hybrid Cooling | I12: Retirement Date | K12: Reduced Operations | M12: Reduced Operations
B13: ID: | C13: Scenario Description | D13: Yes/No | E13: COD | F13: Yes/No | G13: COD | H13: Water Option | I13: Unit 1 | J13: Unit 2 | K13: Unit 1 | L13: Unit 2 | M13: Unit 1 | N13: Unit 2
B14: =B6 -> 1 | C14: Status quo (w/o Northern Ag) | D14: No | F14: No | H14: Scenario 1 | I14: 2023 | J14: 2023 | M14: =IF($C14="","",IF(K14="",I14,K14)) -> 2023 | N14: =IF($C14="","",IF(L14="",J14,L14)) -> 2023
B15: =CONCATENATE($B$6,"A") -> 1A | C15: Status quo (inc Norterhn Ag) | D15: No | F15: No | H15: Scenario 1A | I15: 2024 | J15: 2024 | M15: =IF($C15="","",IF(K15="",I15,K15)) -> 2024 | N15: =IF($C15="","",IF(L15="",J15,L15)) -> 2024
B16: =CONCATENATE($B$6,"B") -> 1B | C16: Status quo plus Acquisition 1 | D16: No | F16: No | H16: Scenario 1B | I16: 2025 | J16: 2025 | M16: =IF($C16="","",IF(K16="",I16,K16)) -> 2025 | N16: =IF($C16="","",IF(L16="",J16,L16)) -> 2025
B17: =CONCATENATE($B$6,"C") -> 1C | C17: Status quo plus Acquisition 1-2 | D17: No | F17: No | H17: Scenario 1C | I17: 2027 | J17: 2027 | M17: =IF($C17="","",IF(K17="",I17,K17)) -> 2027 | N17: =IF($C17="","",IF(L17="",J17,L17)) -> 2027
B18: =CONCATENATE($B$6,"D") -> 1D | C18: Status quo plus Acquisition 1-3 | D18: No | F18: No | H18: Scenario 1D | I18: 2029 | J18: 2029 | M18: =IF($C18="","",IF(K18="",I18,K18)) -> 2029 | N18: =IF($C18="","",IF(L18="",J18,L18)) -> 2029
B19: =CONCATENATE($B$6,"E") -> 1E | C19: Status quo plus Acquisition 1-4 | D19: No | F19: No | H19: Scenario 1E | I19: 2031 | J19: 2031 | M19: =IF($C19="","",IF(K19="",I19,K19)) -> 2031 | N19: =IF($C19="","",IF(L19="",J19,L19)) -> 2031
B22: 3: On-Going CapX - Managed Decline
H23: Index
C24: =C6 -> Status quo | H24: =VLOOKUP(C24,CapX!A:B,2,FALSE) -> 2
C26: Managed Decline | H26: Percentage
C27: 4 Years before end of Operation | H27: 0.725
C28: 3 Years before end of Operation | H28: 0.486
C29: 2 Years before end of Operation | H29: 0.214
C30: Year of Retirement | H30: 0.0397
B32: 4: Fixed O&M Labor Reduction (single unit operation calculated with retirment dates)
C35: Increase contract labor after O&M Labor Reduction | H35: 0.1
B40: 5: On-Going CapX - Calculations | S40: 1st Unit - Step 1 - Reduce baseline based on scenario | AB40: 1st Unit - Step 2 - Managed decline and retirement adjustments | AJ40: 2nd Unit - Step 1 - Reduce baseline based on scenario | AS40: 2nd Unit - Step 2 - Managed decline and retirement adjustments
H42: Year | I42: =U42 -> 1 | J42: =V42 -> 1A | K42: =W42 -> 1B | L42: =X42 -> 1C | M42: =Y42 -> 1D | N42: =Z42 -> 1E | S42: Year | T42: Baseline | U42: {=TRANSPOSE(B14:B19)} -> 1 | V42: 1A | W42: 1B | X42: 1C | Y42: 1D | Z42: 1E | AB42: Year | AC42: =U42 -> 1 | AD42: =V42 -> 1A | AE42: =W42 -> 1B | AF42: =X42 -> 1C | AG42: =Y42 -> 1D | AH42: =Z42 -> 1E | AJ42: Year | AK42: Baseline | AL42: =AC42 -> 1 | AM42: =AD42 -> 1A | AN42: =AE42 -> 1B | AO42: =AF42 -> 1C | AP42: =AG42 -> 1D | AQ42: =AH42 -> 1E | AS42: Year | AT42: =AL42 -> 1 | AU42: =AM42 -> 1A | AV42: =AN42 -> 1B | AW42: =AO42 -> 1C | AX42: =AP42 -> 1D | AY42: =AQ42 -> 1E
H43: 2017 | I43: =AC43+AT43 -> 18803258 | J43: =AD43+AU43 -> 18803258 | K43: =AE43+AV43 -> 18803258 | L43: =AF43+AW43 -> 18803258 | M43: =AG43+AX43 -> 18803258 | N43: =AH43+AY43 -> 18803258 | S43: 2017 | T43: =HLOOKUP($S43,CapX!$A$11:$AP$14,2,FALSE) -> 5101701.2 | U43: =IF($K$14="",$T43,IF($K$14>$S43,$T43,HLOOKUP($S43-$K$14,CapX!$A$18:$AP$26,$H$24,FALSE)*$T43)) -> 5101701.2 | V43: =IF($K$15="",$T43,IF($K$15>$S43,$T43,HLOOKUP($S43-$K$15,CapX!$A$18:$AP$26,$H$24,FALSE)*$T43)) -> 5101701.2 | W43: =IF($K$16="",$T43,IF($K$16>$S43,$T43,HLOOKUP($S43-$K$16,CapX!$A$18:$AP$26,$H$24,FALSE)*$T43)) -> 5101701.2 | X43: =IF($K$17="",$T43,IF($K$17>$S43,$T43,HLOOKUP($S43-$K$17,CapX!$A$18:$AP$26,$H$24,FALSE)*$T43)) -> 5101701.2 | Y43: =IF($K$18="",$T43,IF($K$18>$S43,$T43,HLOOKUP($S43-$K$18,CapX!$A$18:$AP$26,$H$24,FALSE)*$T43)) -> 5101701.2 | Z43: =IF($K$19="",$T43,IF($K$19>$S43,$T43,HLOOKUP($S43-$K$19,CapX!$A$18:$AP$26,$H$24,FALSE)*$T43)) -> 5101701.2 | AB43: 2017 | AC43: =IF($AB43>$I$14,0,IF($AB43=$I$14,U43*$H$30,IF($AB43+1=$I$14,U43*$H$29,IF($AB43+2=$I$14,U43*$H$28,IF($AB43+3=$I$14,U43*$H$27,U43))))) -> 5101701.2 | AD43: =IF($AB43>$I$15,0,IF($AB43=$I$15,U43*$H$30,IF($AB43+1=$I$15,U43*$H$29,IF($AB43+2=$I$15,U43*$H$28,IF($AB43+3=$I$15,U43*$H$27,V43))))) -> 5101701.2 | AE43: =IF($AB43>$I$16,0,IF($AB43=$I$16,U43*$H$30,IF($AB43+1=$I$16,U43*$H$29,IF($AB43+2=$I$16,U43*$H$28,IF($AB43+3=$I$16,U43*$H$27,W43))))) -> 5101701.2 | AF43: =IF($AB43>$I$17,0,IF($AB43=$I$17,U43*$H$30,IF($AB43+1=$I$17,U43*$H$29,IF($AB43+2=$I$17,U43*$H$28,IF($AB43+3=$I$17,U43*$H$27,X43))))) -> 5101701.2 | AG43: =IF($AB43>$I$18,0,IF($AB43=$I$18,U43*$H$30,IF($AB43+1=$I$18,U43*$H$29,IF($AB43+2=$I$18,U43*$H$28,IF($AB43+3=$I$18,U43*$H$27,Y43))))) -> 5101701.2 | AH43: =IF($AB43>$I$19,0,IF($AB43=$I$19,U43*$H$30,IF($AB43+1=$I$19,U43*$H$29,IF($AB43+2=$I$19,U43*$H$28,IF($AB43+3=$I$19,U43*$H$27,Z43))))) -> 5101701.2 | AJ43: 2017 | AK43: =HLOOKUP($S43,CapX!$A$11:$AP$14,3,FALSE) -> 13701557 | AL43: =IF($L$14="",$AK43,IF($L$14>$AJ43,$AK43,HLOOKUP($AJ43-$L$14,CapX!$A$18:$AP$26,$H$24,FALSE)*$AK43)) -> 13701557 | AM43: =IF($L$15="",$AK43,IF($L$15>$AJ43,$AK43,HLOOKUP($AJ43-$L$15,CapX!$A$18:$AP$26,$H$24,FALSE)*$AK43)) -> 13701557 | AN43: =IF($L$16="",$AK43,IF($L$16>$AJ43,$AK43,HLOOKUP($AJ43-$L$16,CapX!$A$18:$AP$26,$H$24,FALSE)*$AK43)) -> 13701557 | AO43: =IF($L$17="",$AK43,IF($L$17>$AJ43,$AK43,HLOOKUP($AJ43-$L$17,CapX!$A$18:$AP$26,$H$24,FALSE)*$AK43)) -> 13701557 | AP43: =IF($L$18="",$AK43,IF($L$18>$AJ43,$AK43,HLOOKUP($AJ43-$L$18,CapX!$A$18:$AP$26,$H$24,FALSE)*$AK43)) -> 13701557 | AQ43: =IF($L$19="",$AK43,IF($L$19>$AJ43,$AK43,HLOOKUP($AJ43-$L$19,CapX!$A$18:$AP$26,$H$24,FALSE)*$AK43)) -> 13701557 | AS43: 2017 | AT43: =IF($AS43>$J$14,0,IF($AS43=$J$14,AL43*$H$30,IF($AS43+1=$J$14,AL43*$H$29,IF($AS43+2=$J$14,AL43*$H$28,IF($AS43+3=$J$14,AL43*$H$27,AL43))))) -> 13701557 | AU43: =IF($AS43>$J$15,0,IF($AS43=$J$15,AM43*$H$30,IF($AS43+1=$J$15,AM43*$H$29,IF($AS43+2=$J$15,AM43*$H$28,IF($AS43+3=$J$15,AM43*$H$27,AM43))))) -> 13701557 | AV43: =IF($AS43>$J$16,0,IF($AS43=$J$16,AN43*$H$30,IF($AS43+1=$J$16,AN43*$H$29,IF($AS43+2=$J$16,AN43*$H$28,IF($AS43+3=$J$16,AN43*$H$27,AN43))))) -> 13701557 | AW43: =IF($AS43>$J$17,0,IF($AS43=$J$17,AO43*$H$30,IF($AS43+1=$J$17,AO43*$H$29,IF($AS43+2=$J$17,AO43*$H$28,IF($AS43+3=$J$17,AO43*$H$27,AO43))))) -> 13701557 | AX43: =IF($AS43>$J$18,0,IF($AS43=$J$18,AP43*$H$30,IF($AS43+1=$J$18,AP43*$H$29,IF($AS43+2=$J$18,AP43*$H$28,IF($AS43+3=$J$18,AP43*$H$27,AP43))))) -> 13701557 | AY43: =IF($AS43>$J$19,0,IF($AS43=$J$19,AQ43*$H$30,IF($AS43+1=$J$19,AQ43*$H$29,IF($AS43+2=$J$19,AQ43*$H$28,IF($AS43+3=$J$19,AQ43*$H$27,AQ43))))) -> 13701557
H44: 2018 | I44: =AC44+AT44 -> 15515714 | J44: =AD44+AU44 -> 15515714 | K44: =AE44+AV44 -> 15515714 | L44: =AF44+AW44 -> 15515714 | M44: =AG44+AX44 -> 15515714 | N44: =AH44+AY44 -> 15515714 | S44: 2018 | T44: =HLOOKUP($S44,CapX!$A$11:$AP$14,2,FALSE) -> 9138973.4 | U44: =IF($K$14="",$T44,IF($K$14>$S44,$T44,HLOOKUP($S44-$K$14,CapX!$A$18:$AP$26,$H$24,FALSE)*$T44)) -> 9138973.4 | V44: =IF($K$15="",$T44,IF($K$15>$S44,$T44,HLOOKUP($S44-$K$15,CapX!$A$18:$AP$26,$H$24,FALSE)*$T44)) -> 9138973.4 | W44: =IF($K$16="",$T44,IF($K$16>$S44,$T44,HLOOKUP($S44-$K$16,CapX!$A$18:$AP$26,$H$24,FALSE)*$T44)) -> 9138973.4 | X44: =IF($K$17="",$T44,IF($K$17>$S44,$T44,HLOOKUP($S44-$K$17,CapX!$A$18:$AP$26,$H$24,FALSE)*$T44)) -> 9138973.4 | Y44: =IF($K$18="",$T44,IF($K$18>$S44,$T44,HLOOKUP($S44-$K$18,CapX!$A$18:$AP$26,$H$24,FALSE)*$T44)) -> 9138973.4 | Z44: =IF($K$19="",$T44,IF($K$19>$S44,$T44,HLOOKUP($S44-$K$19,CapX!$A$18:$AP$26,$H$24,FALSE)*$T44)) -> 9138973.4 | AB44: 2018 | AC44: =IF($AB44>$I$14,0,IF($AB44=$I$14,U44*$H$30,IF($AB44+1=$I$14,U44*$H$29,IF($AB44+2=$I$14,U44*$H$28,IF($AB44+3=$I$14,U44*$H$27,U44))))) -> 9138973.4 | AD44: =IF($AB44>$I$15,0,IF($AB44=$I$15,U44*$H$30,IF($AB44+1=$I$15,U44*$H$29,IF($AB44+2=$I$15,U44*$H$28,IF($AB44+3=$I$15,U44*$H$27,V44))))) -> 9138973.4 | AE44: =IF($AB44>$I$16,0,IF($AB44=$I$16,U44*$H$30,IF($AB44+1=$I$16,U44*$H$29,IF($AB44+2=$I$16,U44*$H$28,IF($AB44+3=$I$16,U44*$H$27,W44))))) -> 9138973.4 | AF44: =IF($AB44>$I$17,0,IF($AB44=$I$17,U44*$H$30,IF($AB44+1=$I$17,U44*$H$29,IF($AB44+2=$I$17,U44*$H$28,IF($AB44+3=$I$17,U44*$H$27,X44))))) -> 9138973.4 | AG44: =IF($AB44>$I$18,0,IF($AB44=$I$18,U44*$H$30,IF($AB44+1=$I$18,U44*$H$29,IF($AB44+2=$I$18,U44*$H$28,IF($AB44+3=$I$18,U44*$H$27,Y44))))) -> 9138973.4 | AH44: =IF($AB44>$I$19,0,IF($AB44=$I$19,U44*$H$30,IF($AB44+1=$I$19,U44*$H$29,IF($AB44+2=$I$19,U44*$H$28,IF($AB44+3=$I$19,U44*$H$27,Z44))))) -> 9138973.4 | AJ44: 2018 | AK44: =HLOOKUP($S44,CapX!$A$11:$AP$14,3,FALSE) -> 6376740.2 | AL44: =IF($L$14="",$AK44,IF($L$14>$AJ44,$AK44,HLOOKUP($AJ44-$L$14,CapX!$A$18:$AP$26,$H$24,FALSE)*$AK44)) -> 6376740.2 | AM44: =IF($L$15="",$AK44,IF($L$15>$AJ44,$AK44,HLOOKUP($AJ44-$L$15,CapX!$A$18:$AP$26,$H$24,FALSE)*$AK44)) -> 6376740.2 | AN44: =IF($L$16="",$AK44,IF($L$16>$AJ44,$AK44,HLOOKUP($AJ44-$L$16,CapX!$A$18:$AP$26,$H$24,FALSE)*$AK44)) -> 6376740.2 | AO44: =IF($L$17="",$AK44,IF($L$17>$AJ44,$AK44,HLOOKUP($AJ44-$L$17,CapX!$A$18:$AP$26,$H$24,FALSE)*$AK44)) -> 6376740.2 | AP44: =IF($L$18="",$AK44,IF($L$18>$AJ44,$AK44,HLOOKUP($AJ44-$L$18,CapX!$A$18:$AP$26,$H$24,FALSE)*$AK44)) -> 6376740.2 | AQ44: =IF($L$19="",$AK44,IF($L$19>$AJ44,$AK44,HLOOKUP($AJ44-$L$19,CapX!$A$18:$AP$26,$H$24,FALSE)*$AK44)) -> 6376740.2 | AS44: 2018 | AT44: =IF($AS44>$J$14,0,IF($AS44=$J$14,AL44*$H$30,IF($AS44+1=$J$14,AL44*$H$29,IF($AS44+2=$J$14,AL44*$H$28,IF($AS44+3=$J$14,AL44*$H$27,AL44))))) -> 6376740.2 | AU44: =IF($AS44>$J$15,0,IF($AS44=$J$15,AM44*$H$30,IF($AS44+1=$J$15,AM44*$H$29,IF($AS44+2=$J$15,AM44*$H$28,IF($AS44+3=$J$15,AM44*$H$27,AM44))))) -> 6376740.2 | AV44: =IF($AS44>$J$16,0,IF($AS44=$J$16,AN44*$H$30,IF($AS44+1=$J$16,AN44*$H$29,IF($AS44+2=$J$16,AN44*$H$28,IF($AS44+3=$J$16,AN44*$H$27,AN44))))) -> 6376740.2 | AW44: =IF($AS44>$J$17,0,IF($AS44=$J$17,AO44*$H$30,IF($AS44+1=$J$17,AO44*$H$29,IF($AS44+2=$J$17,AO44*$H$28,IF($AS44+3=$J$17,AO44*$H$27,AO44))))) -> 6376740.2 | AX44: =IF($AS44>$J$18,0,IF($AS44=$J$18,AP44*$H$30,IF($AS44+1=$J$18,AP44*$H$29,IF($AS44+2=$J$18,AP44*$H$28,IF($AS44+3=$J$18,AP44*$H$27,AP44))))) -> 6376740.2 | AY44: =IF($AS44>$J$19,0,IF($AS44=$J$19,AQ44*$H$30,IF($AS44+1=$J$19,AQ44*$H$29,IF($AS44+2=$J$19,AQ44*$H$28,IF($AS44+3=$J$19,AQ44*$H$27,AQ44))))) -> 6376740.2
H45: 2019 | I45: =AC45+AT45 -> 10355907 | J45: =AD45+AU45 -> 10355907 | K45: =AE45+AV45 -> 10355907 | L45: =AF45+AW45 -> 10355907 | M45: =AG45+AX45 -> 10355907 | N45: =AH45+AY45 -> 10355907 | S45: 2019 | T45: =HLOOKUP($S45,CapX!$A$11:$AP$14,2,FALSE) -> 3802341.2 | U45: =IF($K$14="",$T45,IF($K$14>$S45,$T45,HLOOKUP($S45-$K$14,CapX!$A$18:$AP$26,$H$24,FALSE)*$T45)) -> 3802341.2 | V45: =IF($K$15="",$T45,IF($K$15>$S45,$T45,HLOOKUP($S45-$K$15,CapX!$A$18:$AP$26,$H$24,FALSE)*$T45)) -> 3802341.2 | W45: =IF($K$16="",$T45,IF($K$16>$S45,$T45,HLOOKUP($S45-$K$16,CapX!$A$18:$AP$26,$H$24,FALSE)*$T45)) -> 3802341.2 | X45: =IF($K$17="",$T45,IF($K$17>$S45,$T45,HLOOKUP($S45-$K$17,CapX!$A$18:$AP$26,$H$24,FALSE)*$T45)) -> 3802341.2 | Y45: =IF($K$18="",$T45,IF($K$18>$S45,$T45,HLOOKUP($S45-$K$18,CapX!$A$18:$AP$26,$H$24,FALSE)*$T45)) -> 3802341.2 | Z45: =IF($K$19="",$T45,IF($K$19>$S45,$T45,HLOOKUP($S45-$K$19,CapX!$A$18:$AP$26,$H$24,FALSE)*$T45)) -> 3802341.2 | AB45: 2019 | AC45: =IF($AB45>$I$14,0,IF($AB45=$I$14,U45*$H$30,IF($AB45+1=$I$14,U45*$H$29,IF($AB45+2=$I$14,U45*$H$28,IF($AB45+3=$I$14,U45*$H$27,U45))))) -> 3802341.2 | AD45: =IF($AB45>$I$15,0,IF($AB45=$I$15,U45*$H$30,IF($AB45+1=$I$15,U45*$H$29,IF($AB45+2=$I$15,U45*$H$28,IF($AB45+3=$I$15,U45*$H$27,V45))))) -> 3802341.2 | AE45: =IF($AB45>$I$16,0,IF($AB45=$I$16,U45*$H$30,IF($AB45+1=$I$16,U45*$H$29,IF($AB45+2=$I$16,U45*$H$28,IF($AB45+3=$I$16,U45*$H$27,W45))))) -> 3802341.2 | AF45: =IF($AB45>$I$17,0,IF($AB45=$I$17,U45*$H$30,IF($AB45+1=$I$17,U45*$H$29,IF($AB45+2=$I$17,U45*$H$28,IF($AB45+3=$I$17,U45*$H$27,X45))))) -> 3802341.2 | AG45: =IF($AB45>$I$18,0,IF($AB45=$I$18,U45*$H$30,IF($AB45+1=$I$18,U45*$H$29,IF($AB45+2=$I$18,U45*$H$28,IF($AB45+3=$I$18,U45*$H$27,Y45))))) -> 3802341.2 | AH45: =IF($AB45>$I$19,0,IF($AB45=$I$19,U45*$H$30,IF($AB45+1=$I$19,U45*$H$29,IF($AB45+2=$I$19,U45*$H$28,IF($AB45+3=$I$19,U45*$H$27,Z45))))) -> 3802341.2 | AJ45: 2019 | AK45: =HLOOKUP($S45,CapX!$A$11:$AP$14,3,FALSE) -> 6553566 | AL45: =IF($L$14="",$AK45,IF($L$14>$AJ45,$AK45,HLOOKUP($AJ45-$L$14,CapX!$A$18:$AP$26,$H$24,FALSE)*$AK45)) -> 6553566 | AM45: =IF($L$15="",$AK45,IF($L$15>$AJ45,$AK45,HLOOKUP($AJ45-$L$15,CapX!$A$18:$AP$26,$H$24,FALSE)*$AK45)) -> 6553566 | AN45: =IF($L$16="",$AK45,IF($L$16>$AJ45,$AK45,HLOOKUP($AJ45-$L$16,CapX!$A$18:$AP$26,$H$24,FALSE)*$AK45)) -> 6553566 | AO45: =IF($L$17="",$AK45,IF($L$17>$AJ45,$AK45,HLOOKUP($AJ45-$L$17,CapX!$A$18:$AP$26,$H$24,FALSE)*$AK45)) -> 6553566 | AP45: =IF($L$18="",$AK45,IF($L$18>$AJ45,$AK45,HLOOKUP($AJ45-$L$18,CapX!$A$18:$AP$26,$H$24,FALSE)*$AK45)) -> 6553566 | AQ45: =IF($L$19="",$AK45,IF($L$19>$AJ45,$AK45,HLOOKUP($AJ45-$L$19,CapX!$A$18:$AP$26,$H$24,FALSE)*$AK45)) -> 6553566 | AS45: 2019 | AT45: =IF($AS45>$J$14,0,IF($AS45=$J$14,AL45*$H$30,IF($AS45+1=$J$14,AL45*$H$29,IF($AS45+2=$J$14,AL45*$H$28,IF($AS45+3=$J$14,AL45*$H$27,AL45))))) -> 6553566 | AU45: =IF($AS45>$J$15,0,IF($AS45=$J$15,AM45*$H$30,IF($AS45+1=$J$15,AM45*$H$29,IF($AS45+2=$J$15,AM45*$H$28,IF($AS45+3=$J$15,AM45*$H$27,AM45))))) -> 6553566 | AV45: =IF($AS45>$J$16,0,IF($AS45=$J$16,AN45*$H$30,IF($AS45+1=$J$16,AN45*$H$29,IF($AS45+2=$J$16,AN45*$H$28,IF($AS45+3=$J$16,AN45*$H$27,AN45))))) -> 6553566 | AW45: =IF($AS45>$J$17,0,IF($AS45=$J$17,AO45*$H$30,IF($AS45+1=$J$17,AO45*$H$29,IF($AS45+2=$J$17,AO45*$H$28,IF($AS45+3=$J$17,AO45*$H$27,AO45))))) -> 6553566 | AX45: =IF($AS45>$J$18,0,IF($AS45=$J$18,AP45*$H$30,IF($AS45+1=$J$18,AP45*$H$29,IF($AS45+2=$J$18,AP45*$H$28,IF($AS45+3=$J$18,AP45*$H$27,AP45))))) -> 6553566 | AY45: =IF($AS45>$J$19,0,IF($AS45=$J$19,AQ45*$H$30,IF($AS45+1=$J$19,AQ45*$H$29,IF($AS45+2=$J$19,AQ45*$H$28,IF($AS45+3=$J$19,AQ45*$H$27,AQ45))))) -> 6553566
H46: 2020 | I46: =AC46+AT46 -> 12100046 | J46: =AD46+AU46 -> 16689718 | K46: =AE46+AV46 -> 16689718 | L46: =AF46+AW46 -> 16689718 | M46: =AG46+AX46 -> 16689718 | N46: =AH46+AY46 -> 16689718 | S46: 2020 | T46: =HLOOKUP($S46,CapX!$A$11:$AP$14,2,FALSE) -> 6163918.9 | U46: =IF($K$14="",$T46,IF($K$14>$S46,$T46,HLOOKUP($S46-$K$14,CapX!$A$18:$AP$26,$H$24,FALSE)*$T46)) -> 6163918.9 | V46: =IF($K$15="",$T46,IF($K$15>$S46,$T46,HLOOKUP($S46-$K$15,CapX!$A$18:$AP$26,$H$24,FALSE)*$T46)) -> 6163918.9 | W46: =IF($K$16="",$T46,IF($K$16>$S46,$T46,HLOOKUP($S46-$K$16,CapX!$A$18:$AP$26,$H$24,FALSE)*$T46)) -> 6163918.9 | X46: =IF($K$17="",$T46,IF($K$17>$S46,$T46,HLOOKUP($S46-$K$17,CapX!$A$18:$AP$26,$H$24,FALSE)*$T46)) -> 6163918.9 | Y46: =IF($K$18="",$T46,IF($K$18>$S46,$T46,HLOOKUP($S46-$K$18,CapX!$A$18:$AP$26,$H$24,FALSE)*$T46)) -> 6163918.9 | Z46: =IF($K$19="",$T46,IF($K$19>$S46,$T46,HLOOKUP($S46-$K$19,CapX!$A$18:$AP$26,$H$24,FALSE)*$T46)) -> 6163918.9 | AB46: 2020 | AC46: =IF($AB46>$I$14,0,IF($AB46=$I$14,U46*$H$30,IF($AB46+1=$I$14,U46*$H$29,IF($AB46+2=$I$14,U46*$H$28,IF($AB46+3=$I$14,U46*$H$27,U46))))) -> 4468841.2 | AD46: =IF($AB46>$I$15,0,IF($AB46=$I$15,U46*$H$30,IF($AB46+1=$I$15,U46*$H$29,IF($AB46+2=$I$15,U46*$H$28,IF($AB46+3=$I$15,U46*$H$27,V46))))) -> 6163918.9 | AE46: =IF($AB46>$I$16,0,IF($AB46=$I$16,U46*$H$30,IF($AB46+1=$I$16,U46*$H$29,IF($AB46+2=$I$16,U46*$H$28,IF($AB46+3=$I$16,U46*$H$27,W46))))) -> 6163918.9 | AF46: =IF($AB46>$I$17,0,IF($AB46=$I$17,U46*$H$30,IF($AB46+1=$I$17,U46*$H$29,IF($AB46+2=$I$17,U46*$H$28,IF($AB46+3=$I$17,U46*$H$27,X46))))) -> 6163918.9 | AG46: =IF($AB46>$I$18,0,IF($AB46=$I$18,U46*$H$30,IF($AB46+1=$I$18,U46*$H$29,IF($AB46+2=$I$18,U46*$H$28,IF($AB46+3=$I$18,U46*$H$27,Y46))))) -> 6163918.9 | AH46: =IF($AB46>$I$19,0,IF($AB46=$I$19,U46*$H$30,IF($AB46+1=$I$19,U46*$H$29,IF($AB46+2=$I$19,U46*$H$28,IF($AB46+3=$I$19,U46*$H$27,Z46))))) -> 6163918.9 | AJ46: 2020 | AK46: =HLOOKUP($S46,CapX!$A$11:$AP$14,3,FALSE) -> 10525799 | AL46: =IF($L$14="",$AK46,IF($L$14>$AJ46,$AK46,HLOOKUP($AJ46-$L$14,CapX!$A$18:$AP$26,$H$24,FALSE)*$AK46)) -> 10525799 | AM46: =IF($L$15="",$AK46,IF($L$15>$AJ46,$AK46,HLOOKUP($AJ46-$L$15,CapX!$A$18:$AP$26,$H$24,FALSE)*$AK46)) -> 10525799 | AN46: =IF($L$16="",$AK46,IF($L$16>$AJ46,$AK46,HLOOKUP($AJ46-$L$16,CapX!$A$18:$AP$26,$H$24,FALSE)*$AK46)) -> 10525799 | AO46: =IF($L$17="",$AK46,IF($L$17>$AJ46,$AK46,HLOOKUP($AJ46-$L$17,CapX!$A$18:$AP$26,$H$24,FALSE)*$AK46)) -> 10525799 | AP46: =IF($L$18="",$AK46,IF($L$18>$AJ46,$AK46,HLOOKUP($AJ46-$L$18,CapX!$A$18:$AP$26,$H$24,FALSE)*$AK46)) -> 10525799 | AQ46: =IF($L$19="",$AK46,IF($L$19>$AJ46,$AK46,HLOOKUP($AJ46-$L$19,CapX!$A$18:$AP$26,$H$24,FALSE)*$AK46)) -> 10525799 | AS46: 2020 | AT46: =IF($AS46>$J$14,0,IF($AS46=$J$14,AL46*$H$30,IF($AS46+1=$J$14,AL46*$H$29,IF($AS46+2=$J$14,AL46*$H$28,IF($AS46+3=$J$14,AL46*$H$27,AL46))))) -> 7631204.6 | AU46: =IF($AS46>$J$15,0,IF($AS46=$J$15,AM46*$H$30,IF($AS46+1=$J$15,AM46*$H$29,IF($AS46+2=$J$15,AM46*$H$28,IF($AS46+3=$J$15,AM46*$H$27,AM46))))) -> 10525799 | AV46: =IF($AS46>$J$16,0,IF($AS46=$J$16,AN46*$H$30,IF($AS46+1=$J$16,AN46*$H$29,IF($AS46+2=$J$16,AN46*$H$28,IF($AS46+3=$J$16,AN46*$H$27,AN46))))) -> 10525799 | AW46: =IF($AS46>$J$17,0,IF($AS46=$J$17,AO46*$H$30,IF($AS46+1=$J$17,AO46*$H$29,IF($AS46+2=$J$17,AO46*$H$28,IF($AS46+3=$J$17,AO46*$H$27,AO46))))) -> 10525799 | AX46: =IF($AS46>$J$18,0,IF($AS46=$J$18,AP46*$H$30,IF($AS46+1=$J$18,AP46*$H$29,IF($AS46+2=$J$18,AP46*$H$28,IF($AS46+3=$J$18,AP46*$H$27,AP46))))) -> 10525799 | AY46: =IF($AS46>$J$19,0,IF($AS46=$J$19,AQ46*$H$30,IF($AS46+1=$J$19,AQ46*$H$29,IF($AS46+2=$J$19,AQ46*$H$28,IF($AS46+3=$J$19,AQ46*$H$27,AQ46))))) -> 10525799
H47: 2021 | I47: =AC47+AT47 -> 7175311.4 | J47: =AD47+AU47 -> 10703911 | K47: =AE47+AV47 -> 14764015 | L47: =AF47+AW47 -> 14764015 | M47: =AG47+AX47 -> 14764015 | N47: =AH47+AY47 -> 14764015 | S47: 2021 | T47: =HLOOKUP($S47,CapX!$A$11:$AP$14,2,FALSE) -> 10631803 | U47: =IF($K$14="",$T47,IF($K$14>$S47,$T47,HLOOKUP($S47-$K$14,CapX!$A$18:$AP$26,$H$24,FALSE)*$T47)) -> 10631803 | V47: =IF($K$15="",$T47,IF($K$15>$S47,$T47,HLOOKUP($S47-$K$15,CapX!$A$18:$AP$26,$H$24,FALSE)*$T47)) -> 10631803 | W47: =IF($K$16="",$T47,IF($K$16>$S47,$T47,HLOOKUP($S47-$K$16,CapX!$A$18:$AP$26,$H$24,FALSE)*$T47)) -> 10631803 | X47: =IF($K$17="",$T47,IF($K$17>$S47,$T47,HLOOKUP($S47-$K$17,CapX!$A$18:$AP$26,$H$24,FALSE)*$T47)) -> 10631803 | Y47: =IF($K$18="",$T47,IF($K$18>$S47,$T47,HLOOKUP($S47-$K$18,CapX!$A$18:$AP$26,$H$24,FALSE)*$T47)) -> 10631803 | Z47: =IF($K$19="",$T47,IF($K$19>$S47,$T47,HLOOKUP($S47-$K$19,CapX!$A$18:$AP$26,$H$24,FALSE)*$T47)) -> 10631803 | AB47: 2021 | AC47: =IF($AB47>$I$14,0,IF($AB47=$I$14,U47*$H$30,IF($AB47+1=$I$14,U47*$H$29,IF($AB47+2=$I$14,U47*$H$28,IF($AB47+3=$I$14,U47*$H$27,U47))))) -> 5167056.4 | AD47: =IF($AB47>$I$15,0,IF($AB47=$I$15,U47*$H$30,IF($AB47+1=$I$15,U47*$H$29,IF($AB47+2=$I$15,U47*$H$28,IF($AB47+3=$I$15,U47*$H$27,V47))))) -> 7708057.3 | AE47: =IF($AB47>$I$16,0,IF($AB47=$I$16,U47*$H$30,IF($AB47+1=$I$16,U47*$H$29,IF($AB47+2=$I$16,U47*$H$28,IF($AB47+3=$I$16,U47*$H$27,W47))))) -> 10631803 | AF47: =IF($AB47>$I$17,0,IF($AB47=$I$17,U47*$H$30,IF($AB47+1=$I$17,U47*$H$29,IF($AB47+2=$I$17,U47*$H$28,IF($AB47+3=$I$17,U47*$H$27,X47))))) -> 10631803 | AG47: =IF($AB47>$I$18,0,IF($AB47=$I$18,U47*$H$30,IF($AB47+1=$I$18,U47*$H$29,IF($AB47+2=$I$18,U47*$H$28,IF($AB47+3=$I$18,U47*$H$27,Y47))))) -> 10631803 | AH47: =IF($AB47>$I$19,0,IF($AB47=$I$19,U47*$H$30,IF($AB47+1=$I$19,U47*$H$29,IF($AB47+2=$I$19,U47*$H$28,IF($AB47+3=$I$19,U47*$H$27,Z47))))) -> 10631803 | AJ47: 2021 | AK47: =HLOOKUP($S47,CapX!$A$11:$AP$14,3,FALSE) -> 4132212.1 | AL47: =IF($L$14="",$AK47,IF($L$14>$AJ47,$AK47,HLOOKUP($AJ47-$L$14,CapX!$A$18:$AP$26,$H$24,FALSE)*$AK47)) -> 4132212.1 | AM47: =IF($L$15="",$AK47,IF($L$15>$AJ47,$AK47,HLOOKUP($AJ47-$L$15,CapX!$A$18:$AP$26,$H$24,FALSE)*$AK47)) -> 4132212.1 | AN47: =IF($L$16="",$AK47,IF($L$16>$AJ47,$AK47,HLOOKUP($AJ47-$L$16,CapX!$A$18:$AP$26,$H$24,FALSE)*$AK47)) -> 4132212.1 | AO47: =IF($L$17="",$AK47,IF($L$17>$AJ47,$AK47,HLOOKUP($AJ47-$L$17,CapX!$A$18:$AP$26,$H$24,FALSE)*$AK47)) -> 4132212.1 | AP47: =IF($L$18="",$AK47,IF($L$18>$AJ47,$AK47,HLOOKUP($AJ47-$L$18,CapX!$A$18:$AP$26,$H$24,FALSE)*$AK47)) -> 4132212.1 | AQ47: =IF($L$19="",$AK47,IF($L$19>$AJ47,$AK47,HLOOKUP($AJ47-$L$19,CapX!$A$18:$AP$26,$H$24,FALSE)*$AK47)) -> 4132212.1 | AS47: 2021 | AT47: =IF($AS47>$J$14,0,IF($AS47=$J$14,AL47*$H$30,IF($AS47+1=$J$14,AL47*$H$29,IF($AS47+2=$J$14,AL47*$H$28,IF($AS47+3=$J$14,AL47*$H$27,AL47))))) -> 2008255.1 | AU47: =IF($AS47>$J$15,0,IF($AS47=$J$15,AM47*$H$30,IF($AS47+1=$J$15,AM47*$H$29,IF($AS47+2=$J$15,AM47*$H$28,IF($AS47+3=$J$15,AM47*$H$27,AM47))))) -> 2995853.8 | AV47: =IF($AS47>$J$16,0,IF($AS47=$J$16,AN47*$H$30,IF($AS47+1=$J$16,AN47*$H$29,IF($AS47+2=$J$16,AN47*$H$28,IF($AS47+3=$J$16,AN47*$H$27,AN47))))) -> 4132212.1 | AW47: =IF($AS47>$J$17,0,IF($AS47=$J$17,AO47*$H$30,IF($AS47+1=$J$17,AO47*$H$29,IF($AS47+2=$J$17,AO47*$H$28,IF($AS47+3=$J$17,AO47*$H$27,AO47))))) -> 4132212.1 | AX47: =IF($AS47>$J$18,0,IF($AS47=$J$18,AP47*$H$30,IF($AS47+1=$J$18,AP47*$H$29,IF($AS47+2=$J$18,AP47*$H$28,IF($AS47+3=$J$18,AP47*$H$27,AP47))))) -> 4132212.1 | AY47: =IF($AS47>$J$19,0,IF($AS47=$J$19,AQ47*$H$30,IF($AS47+1=$J$19,AQ47*$H$29,IF($AS47+2=$J$19,AQ47*$H$28,IF($AS47+3=$J$19,AQ47*$H$27,AQ47))))) -> 4132212.1
H48: 2022 | I48: =AC48+AT48 -> 2305697.2 | J48: =AD48+AU48 -> 5236302.9 | K48: =AE48+AV48 -> 7811357.2 | L48: =AF48+AW48 -> 10774286 | M48: =AG48+AX48 -> 10774286 | N48: =AH48+AY48 -> 10774286 | S48: 2022 | T48: =HLOOKUP($S48,CapX!$A$11:$AP$14,2,FALSE) -> 3955955.8 | U48: =IF($K$14="",$T48,IF($K$14>$S48,$T48,HLOOKUP($S48-$K$14,CapX!$A$18:$AP$26,$H$24,FALSE)*$T48)) -> 3955955.8 | V48: =IF($K$15="",$T48,IF($K$15>$S48,$T48,HLOOKUP($S48-$K$15,CapX!$A$18:$AP$26,$H$24,FALSE)*$T48)) -> 3955955.8 | W48: =IF($K$16="",$T48,IF($K$16>$S48,$T48,HLOOKUP($S48-$K$16,CapX!$A$18:$AP$26,$H$24,FALSE)*$T48)) -> 3955955.8 | X48: =IF($K$17="",$T48,IF($K$17>$S48,$T48,HLOOKUP($S48-$K$17,CapX!$A$18:$AP$26,$H$24,FALSE)*$T48)) -> 3955955.8 | Y48: =IF($K$18="",$T48,IF($K$18>$S48,$T48,HLOOKUP($S48-$K$18,CapX!$A$18:$AP$26,$H$24,FALSE)*$T48)) -> 3955955.8 | Z48: =IF($K$19="",$T48,IF($K$19>$S48,$T48,HLOOKUP($S48-$K$19,CapX!$A$18:$AP$26,$H$24,FALSE)*$T48)) -> 3955955.8 | AB48: 2022 | AC48: =IF($AB48>$I$14,0,IF($AB48=$I$14,U48*$H$30,IF($AB48+1=$I$14,U48*$H$29,IF($AB48+2=$I$14,U48*$H$28,IF($AB48+3=$I$14,U48*$H$27,U48))))) -> 846574.53 | AD48: =IF($AB48>$I$15,0,IF($AB48=$I$15,U48*$H$30,IF($AB48+1=$I$15,U48*$H$29,IF($AB48+2=$I$15,U48*$H$28,IF($AB48+3=$I$15,U48*$H$27,V48))))) -> 1922594.5 | AE48: =IF($AB48>$I$16,0,IF($AB48=$I$16,U48*$H$30,IF($AB48+1=$I$16,U48*$H$29,IF($AB48+2=$I$16,U48*$H$28,IF($AB48+3=$I$16,U48*$H$27,W48))))) -> 2868067.9 | AF48: =IF($AB48>$I$17,0,IF($AB48=$I$17,U48*$H$30,IF($AB48+1=$I$17,U48*$H$29,IF($AB48+2=$I$17,U48*$H$28,IF($AB48+3=$I$17,U48*$H$27,X48))))) -> 3955955.8 | AG48: =IF($AB48>$I$18,0,IF($AB48=$I$18,U48*$H$30,IF($AB48+1=$I$18,U48*$H$29,IF($AB48+2=$I$18,U48*$H$28,IF($AB48+3=$I$18,U48*$H$27,Y48))))) -> 3955955.8 | AH48: =IF($AB48>$I$19,0,IF($AB48=$I$19,U48*$H$30,IF($AB48+1=$I$19,U48*$H$29,IF($AB48+2=$I$19,U48*$H$28,IF($AB48+3=$I$19,U48*$H$27,Z48))))) -> 3955955.8 | AJ48: 2022 | AK48: =HLOOKUP($S48,CapX!$A$11:$AP$14,3,FALSE) -> 6818330 | AL48: =IF($L$14="",$AK48,IF($L$14>$AJ48,$AK48,HLOOKUP($AJ48-$L$14,CapX!$A$18:$AP$26,$H$24,FALSE)*$AK48)) -> 6818330 | AM48: =IF($L$15="",$AK48,IF($L$15>$AJ48,$AK48,HLOOKUP($AJ48-$L$15,CapX!$A$18:$AP$26,$H$24,FALSE)*$AK48)) -> 6818330 | AN48: =IF($L$16="",$AK48,IF($L$16>$AJ48,$AK48,HLOOKUP($AJ48-$L$16,CapX!$A$18:$AP$26,$H$24,FALSE)*$AK48)) -> 6818330 | AO48: =IF($L$17="",$AK48,IF($L$17>$AJ48,$AK48,HLOOKUP($AJ48-$L$17,CapX!$A$18:$AP$26,$H$24,FALSE)*$AK48)) -> 6818330 | AP48: =IF($L$18="",$AK48,IF($L$18>$AJ48,$AK48,HLOOKUP($AJ48-$L$18,CapX!$A$18:$AP$26,$H$24,FALSE)*$AK48)) -> 6818330 | AQ48: =IF($L$19="",$AK48,IF($L$19>$AJ48,$AK48,HLOOKUP($AJ48-$L$19,CapX!$A$18:$AP$26,$H$24,FALSE)*$AK48)) -> 6818330 | AS48: 2022 | AT48: =IF($AS48>$J$14,0,IF($AS48=$J$14,AL48*$H$30,IF($AS48+1=$J$14,AL48*$H$29,IF($AS48+2=$J$14,AL48*$H$28,IF($AS48+3=$J$14,AL48*$H$27,AL48))))) -> 1459122.6 | AU48: =IF($AS48>$J$15,0,IF($AS48=$J$15,AM48*$H$30,IF($AS48+1=$J$15,AM48*$H$29,IF($AS48+2=$J$15,AM48*$H$28,IF($AS48+3=$J$15,AM48*$H$27,AM48))))) -> 3313708.4 | AV48: =IF($AS48>$J$16,0,IF($AS48=$J$16,AN48*$H$30,IF($AS48+1=$J$16,AN48*$H$29,IF($AS48+2=$J$16,AN48*$H$28,IF($AS48+3=$J$16,AN48*$H$27,AN48))))) -> 4943289.3 | AW48: =IF($AS48>$J$17,0,IF($AS48=$J$17,AO48*$H$30,IF($AS48+1=$J$17,AO48*$H$29,IF($AS48+2=$J$17,AO48*$H$28,IF($AS48+3=$J$17,AO48*$H$27,AO48))))) -> 6818330 | AX48: =IF($AS48>$J$18,0,IF($AS48=$J$18,AP48*$H$30,IF($AS48+1=$J$18,AP48*$H$29,IF($AS48+2=$J$18,AP48*$H$28,IF($AS48+3=$J$18,AP48*$H$27,AP48))))) -> 6818330 | AY48: =IF($AS48>$J$19,0,IF($AS48=$J$19,AQ48*$H$30,IF($AS48+1=$J$19,AQ48*$H$29,IF($AS48+2=$J$19,AQ48*$H$28,IF($AS48+3=$J$19,AQ48*$H$27,AQ48))))) -> 6818330
H49: 2023 | I49: =AC49+AT49 -> 689350.13 | J49: =AD49+AU49 -> 3715892.4 | K49: =AE49+AV49 -> 8438895.8 | L49: =AF49+AW49 -> 17363983 | M49: =AG49+AX49 -> 17363983 | N49: =AH49+AY49 -> 17363983 | S49: 2023 | T49: =HLOOKUP($S49,CapX!$A$11:$AP$14,2,FALSE) -> 6412941.3 | U49: =IF($K$14="",$T49,IF($K$14>$S49,$T49,HLOOKUP($S49-$K$14,CapX!$A$18:$AP$26,$H$24,FALSE)*$T49)) -> 6412941.3 | V49: =IF($K$15="",$T49,IF($K$15>$S49,$T49,HLOOKUP($S49-$K$15,CapX!$A$18:$AP$26,$H$24,FALSE)*$T49)) -> 6412941.3 | W49: =IF($K$16="",$T49,IF($K$16>$S49,$T49,HLOOKUP($S49-$K$16,CapX!$A$18:$AP$26,$H$24,FALSE)*$T49)) -> 6412941.3 | X49: =IF($K$17="",$T49,IF($K$17>$S49,$T49,HLOOKUP($S49-$K$17,CapX!$A$18:$AP$26,$H$24,FALSE)*$T49)) -> 6412941.3 | Y49: =IF($K$18="",$T49,IF($K$18>$S49,$T49,HLOOKUP($S49-$K$18,CapX!$A$18:$AP$26,$H$24,FALSE)*$T49)) -> 6412941.3 | Z49: =IF($K$19="",$T49,IF($K$19>$S49,$T49,HLOOKUP($S49-$K$19,CapX!$A$18:$AP$26,$H$24,FALSE)*$T49)) -> 6412941.3 | AB49: 2023 | AC49: =IF($AB49>$I$14,0,IF($AB49=$I$14,U49*$H$30,IF($AB49+1=$I$14,U49*$H$29,IF($AB49+2=$I$14,U49*$H$28,IF($AB49+3=$I$14,U49*$H$27,U49))))) -> 254593.77 | AD49: =IF($AB49>$I$15,0,IF($AB49=$I$15,U49*$H$30,IF($AB49+1=$I$15,U49*$H$29,IF($AB49+2=$I$15,U49*$H$28,IF($AB49+3=$I$15,U49*$H$27,V49))))) -> 1372369.4 | AE49: =IF($AB49>$I$16,0,IF($AB49=$I$16,U49*$H$30,IF($AB49+1=$I$16,U49*$H$29,IF($AB49+2=$I$16,U49*$H$28,IF($AB49+3=$I$16,U49*$H$27,W49))))) -> 3116689.5 | AF49: =IF($AB49>$I$17,0,IF($AB49=$I$17,U49*$H$30,IF($AB49+1=$I$17,U49*$H$29,IF($AB49+2=$I$17,U49*$H$28,IF($AB49+3=$I$17,U49*$H$27,X49))))) -> 6412941.3 | AG49: =IF($AB49>$I$18,0,IF($AB49=$I$18,U49*$H$30,IF($AB49+1=$I$18,U49*$H$29,IF($AB49+2=$I$18,U49*$H$28,IF($AB49+3=$I$18,U49*$H$27,Y49))))) -> 6412941.3 | AH49: =IF($AB49>$I$19,0,IF($AB49=$I$19,U49*$H$30,IF($AB49+1=$I$19,U49*$H$29,IF($AB49+2=$I$19,U49*$H$28,IF($AB49+3=$I$19,U49*$H$27,Z49))))) -> 6412941.3 | AJ49: 2023 | AK49: =HLOOKUP($S49,CapX!$A$11:$AP$14,3,FALSE) -> 10951042 | AL49: =IF($L$14="",$AK49,IF($L$14>$AJ49,$AK49,HLOOKUP($AJ49-$L$14,CapX!$A$18:$AP$26,$H$24,FALSE)*$AK49)) -> 10951042 | AM49: =IF($L$15="",$AK49,IF($L$15>$AJ49,$AK49,HLOOKUP($AJ49-$L$15,CapX!$A$18:$AP$26,$H$24,FALSE)*$AK49)) -> 10951042 | AN49: =IF($L$16="",$AK49,IF($L$16>$AJ49,$AK49,HLOOKUP($AJ49-$L$16,CapX!$A$18:$AP$26,$H$24,FALSE)*$AK49)) -> 10951042 | AO49: =IF($L$17="",$AK49,IF($L$17>$AJ49,$AK49,HLOOKUP($AJ49-$L$17,CapX!$A$18:$AP$26,$H$24,FALSE)*$AK49)) -> 10951042 | AP49: =IF($L$18="",$AK49,IF($L$18>$AJ49,$AK49,HLOOKUP($AJ49-$L$18,CapX!$A$18:$AP$26,$H$24,FALSE)*$AK49)) -> 10951042 | AQ49: =IF($L$19="",$AK49,IF($L$19>$AJ49,$AK49,HLOOKUP($AJ49-$L$19,CapX!$A$18:$AP$26,$H$24,FALSE)*$AK49)) -> 10951042 | AS49: 2023 | AT49: =IF($AS49>$J$14,0,IF($AS49=$J$14,AL49*$H$30,IF($AS49+1=$J$14,AL49*$H$29,IF($AS49+2=$J$14,AL49*$H$28,IF($AS49+3=$J$14,AL49*$H$27,AL49))))) -> 434756.36 | AU49: =IF($AS49>$J$15,0,IF($AS49=$J$15,AM49*$H$30,IF($AS49+1=$J$15,AM49*$H$29,IF($AS49+2=$J$15,AM49*$H$28,IF($AS49+3=$J$15,AM49*$H$27,AM49))))) -> 2343522.9 | AV49: =IF($AS49>$J$16,0,IF($AS49=$J$16,AN49*$H$30,IF($AS49+1=$J$16,AN49*$H$29,IF($AS49+2=$J$16,AN49*$H$28,IF($AS49+3=$J$16,AN49*$H$27,AN49))))) -> 5322206.3 | AW49: =IF($AS49>$J$17,0,IF($AS49=$J$17,AO49*$H$30,IF($AS49+1=$J$17,AO49*$H$29,IF($AS49+2=$J$17,AO49*$H$28,IF($AS49+3=$J$17,AO49*$H$27,AO49))))) -> 10951042 | AX49: =IF($AS49>$J$18,0,IF($AS49=$J$18,AP49*$H$30,IF($AS49+1=$J$18,AP49*$H$29,IF($AS49+2=$J$18,AP49*$H$28,IF($AS49+3=$J$18,AP49*$H$27,AP49))))) -> 10951042 | AY49: =IF($AS49>$J$19,0,IF($AS49=$J$19,AQ49*$H$30,IF($AS49+1=$J$19,AQ49*$H$29,IF($AS49+2=$J$19,AQ49*$H$28,IF($AS49+3=$J$19,AQ49*$H$27,AQ49))))) -> 10951042
